BEGIN:VCALENDAR
VERSION:2.0
PRODID:-//Cardinal Stritch Council #4620 - ECPv6.13.2.1//NONSGML v1.0//EN
CALSCALE:GREGORIAN
METHOD:PUBLISH
X-ORIGINAL-URL:https://www.cpkofc4620.org
X-WR-CALDESC:Events for Cardinal Stritch Council #4620
REFRESH-INTERVAL;VALUE=DURATION:PT1H
X-Robots-Tag:noindex
X-PUBLISHED-TTL:PT1H
BEGIN:VTIMEZONE
TZID:America/Chicago
BEGIN:DAYLIGHT
TZOFFSETFROM:-0600
TZOFFSETTO:-0500
TZNAME:CDT
DTSTART:20250309T080000
END:DAYLIGHT
BEGIN:STANDARD
TZOFFSETFROM:-0500
TZOFFSETTO:-0600
TZNAME:CST
DTSTART:20251102T070000
END:STANDARD
END:VTIMEZONE
BEGIN:VEVENT
DTSTART;TZID=America/Chicago:20251005T073000
DTEND;TZID=America/Chicago:20251005T123000
DTSTAMP:20260423T182311
CREATED:20230913T002241Z
LAST-MODIFIED:20251002T201233Z
UID:2655-1759649400-1759667400@www.cpkofc4620.org
SUMMARY:Altar & Rosary Society Respect for Life Rose Sale
DESCRIPTION:On the weekend of the October 5 & 6th\, Knights will be assisting the St. Mary Altar & Rosary Society in selling roses for their annual Respect for Life Rose Sale after Masses at St. Mary Church. \nThe roses will be sold outside each door of St. Mary’s Catholic Church after the 7:30 a.m.\, 9:30 a.m. and 11:30 a.m. \nIf you have any questions\, contact the Dave Stephenson at (219) 718-4818.
URL:https://www.cpkofc4620.org/event/altar-rosary-society-rose-sale-sunday/
LOCATION:St. Matthias Roman Catholic Church\, 101 W. Burrell Drive\, Crown Point\, 46307\, United States
CATEGORIES:Alter and Rosary Society,Cardinal Stritch Council 4620,St. Mary's
ORGANIZER;CN="Mardee Saad":MAILTO:mardee.saad@sbcglobal.net
END:VEVENT
END:VCALENDAR