BEGIN:VCALENDAR
VERSION:2.0
PRODID:-//Cardinal Stritch Council #4620 - ECPv6.13.2.1//NONSGML v1.0//EN
CALSCALE:GREGORIAN
METHOD:PUBLISH
X-WR-CALNAME:Cardinal Stritch Council #4620
X-ORIGINAL-URL:https://www.cpkofc4620.org
X-WR-CALDESC:Events for Cardinal Stritch Council #4620
REFRESH-INTERVAL;VALUE=DURATION:PT1H
X-Robots-Tag:noindex
X-PUBLISHED-TTL:PT1H
BEGIN:VTIMEZONE
TZID:America/Chicago
BEGIN:DAYLIGHT
TZOFFSETFROM:-0600
TZOFFSETTO:-0500
TZNAME:CDT
DTSTART:20250309T080000
END:DAYLIGHT
BEGIN:STANDARD
TZOFFSETFROM:-0500
TZOFFSETTO:-0600
TZNAME:CST
DTSTART:20251102T070000
END:STANDARD
END:VTIMEZONE
BEGIN:VEVENT
DTSTART;TZID=America/Chicago:20250504T140000
DTEND;TZID=America/Chicago:20250504T163000
DTSTAMP:20260424T011933
CREATED:20220413T063842Z
LAST-MODIFIED:20250430T000141Z
UID:2061-1746367200-1746376200@www.cpkofc4620.org
SUMMARY:The May Crowning of the Blessed Virgin Mary
DESCRIPTION:The annual May Crowning of Blessed Virgin Mary\, the Patron of our parish\, will be held on Sunday\, May 4th at 2:00 p.m. in St. Mary Church.\n \nThe Knights of the Cardinal Stritch Council 4620 have been asked to serve coffee\, lemonade and water at the reception hosted by the Altar and Rosary Club afterwards in St. Agnes Center. \nPlease invite your spouses\, children\, relatives\, and friends to join you for this joyful celebration!
URL:https://www.cpkofc4620.org/event/the-may-crowning-of-the-blessed-virgin-mary/
LOCATION:St. Mary Catholic Church\, 321 E Joliet St\, Crown Point\, IN\, 46307\, United States
CATEGORIES:Alter and Rosary Society,Cardinal Stritch Council 4620,The May Crowning
ATTACH;FMTTYPE=image/jpeg:https://www.cpkofc4620.org/wp-content/uploads/2022/04/May-Crowning.jpg
ORGANIZER;CN="Mardee Saad":MAILTO:mardee.saad@sbcglobal.net
END:VEVENT
BEGIN:VEVENT
DTSTART;TZID=America/Chicago:20250506T160000
DTEND;TZID=America/Chicago:20250506T180000
DTSTAMP:20260424T011933
CREATED:20250430T003350Z
LAST-MODIFIED:20250430T003550Z
UID:3287-1746547200-1746554400@www.cpkofc4620.org
SUMMARY:Ground Maintenance at Gibault Campagna Campus in Schererville
DESCRIPTION:Gibault Children Services needs help to clean the grounds of their Campagna campus on Tuesday\, May 6th. Helpers are asked to bring their own yard tools and meet at the Schererville campus at 4:00 p.m. \nThere will be a barbecue for all the volunteers afterward so please RSVP District 4 Deputy Mike Havens before Monday\, May 5th.
URL:https://www.cpkofc4620.org/event/ground-maintenance-at-gibault-campagna-campus-in-schererville/
LOCATION:Gibault Campagna Campus\, 7403 Cline Avenue\, Schererville\, IN\, 46375\, United States
CATEGORIES:Campagna Campus,Cardinal Stritch Council 4620,Eucharistic Procession,Outdoor Mass
ATTACH;FMTTYPE=image/jpeg:https://www.cpkofc4620.org/wp-content/uploads/2014/06/gibaultsign.jpg
END:VEVENT
BEGIN:VEVENT
DTSTART;TZID=America/Chicago:20250511T090000
DTEND;TZID=America/Chicago:20250511T103000
DTSTAMP:20260424T011933
CREATED:20221208T141901Z
LAST-MODIFIED:20250409T004559Z
UID:2048-1746954000-1746959400@www.cpkofc4620.org
SUMMARY:Corporate Communion
DESCRIPTION:Our Corporate Communion is every second Sunday of the month at the 9:30 a.m. mass in St. Mary Church.   \nWe will say a rosary before the mass starts.   \nPlease make plans to attend with your families and to wear your Knights apparel.  See the Grand Knight for an arm band when you enter the church. \nFor more information on all these events\, please contact the Grand Knight at (219) 718-4818.
URL:https://www.cpkofc4620.org/event/corporate-communion-may/
LOCATION:St. Matthias Roman Catholic Church\, 101 W. Burrell Drive\, Crown Point\, 46307\, United States
CATEGORIES:Cardinal Stritch Council 4620,Corporate Communion
ATTACH;FMTTYPE=image/jpeg:https://www.cpkofc4620.org/wp-content/uploads/2021/12/communion_header-e1638468454154.jpg
END:VEVENT
END:VCALENDAR