BEGIN:VCALENDAR
VERSION:2.0
PRODID:-//Cardinal Stritch Council #4620 - ECPv6.13.2.1//NONSGML v1.0//EN
CALSCALE:GREGORIAN
METHOD:PUBLISH
X-WR-CALNAME:Cardinal Stritch Council #4620
X-ORIGINAL-URL:https://www.cpkofc4620.org
X-WR-CALDESC:Events for Cardinal Stritch Council #4620
REFRESH-INTERVAL;VALUE=DURATION:PT1H
X-Robots-Tag:noindex
X-PUBLISHED-TTL:PT1H
BEGIN:VTIMEZONE
TZID:America/Chicago
BEGIN:DAYLIGHT
TZOFFSETFROM:-0600
TZOFFSETTO:-0500
TZNAME:CDT
DTSTART:20240310T080000
END:DAYLIGHT
BEGIN:STANDARD
TZOFFSETFROM:-0500
TZOFFSETTO:-0600
TZNAME:CST
DTSTART:20241103T070000
END:STANDARD
END:VTIMEZONE
BEGIN:VEVENT
DTSTART;TZID=America/Chicago:20240820T183000
DTEND;TZID=America/Chicago:20240820T193000
DTSTAMP:20260424T163845
CREATED:20240811T200156Z
LAST-MODIFIED:20240813T200206Z
UID:1630-1724178600-1724182200@www.cpkofc4620.org
SUMMARY:Installation of Officers
DESCRIPTION:Our August social meeting will be our annual Installation of Officers for Cardinal Stritch Council #4620 on Tuesday\, August 20th at 6:30 p.m. This year’s installation will be held at the chapel of St. Anthony’s Assisted Living Center located at 205 W Franciscan Dr. in Crown Point. Our chaplain\, Fr. Don Lewendowski\, is officiating. \nIncoming officers as well as all attending Knights are encouraged to bring their families and friends along to make this a truly wonderful event. \nWe will celebrate this event at our Council Picnic on September 15th. \nIf you have questions\, contact (219) 718-4818.
URL:https://www.cpkofc4620.org/event/installation-of-officers/
LOCATION:St. Anthony Assisted Living Center\, 203 W Franciscan Dr.\, Crown Point\, IN\, 46307\, United States
CATEGORIES:Cardinal Stritch Council 4620,Installation of Officers
ATTACH;FMTTYPE=image/jpeg:https://www.cpkofc4620.org/wp-content/uploads/2024/02/IMG_1360-scaled-e1707624444130.jpeg
END:VEVENT
END:VCALENDAR