BEGIN:VCALENDAR
VERSION:2.0
PRODID:-//Cardinal Stritch Council #4620 - ECPv6.13.2.1//NONSGML v1.0//EN
CALSCALE:GREGORIAN
METHOD:PUBLISH
X-ORIGINAL-URL:https://www.cpkofc4620.org
X-WR-CALDESC:Events for Cardinal Stritch Council #4620
REFRESH-INTERVAL;VALUE=DURATION:PT1H
X-Robots-Tag:noindex
X-PUBLISHED-TTL:PT1H
BEGIN:VTIMEZONE
TZID:America/Chicago
BEGIN:DAYLIGHT
TZOFFSETFROM:-0600
TZOFFSETTO:-0500
TZNAME:CDT
DTSTART:20250309T080000
END:DAYLIGHT
BEGIN:STANDARD
TZOFFSETFROM:-0500
TZOFFSETTO:-0600
TZNAME:CST
DTSTART:20251102T070000
END:STANDARD
END:VTIMEZONE
BEGIN:VEVENT
DTSTART;TZID=America/Chicago:20250612T183000
DTEND;TZID=America/Chicago:20250612T203000
DTSTAMP:20260424T011329
CREATED:20220601T161917Z
LAST-MODIFIED:20250608T002150Z
UID:864-1749753000-1749760200@www.cpkofc4620.org
SUMMARY:June Knights of Columbus Meeting - SUMMER LOCATION
DESCRIPTION:The Cardinal Stritch Council 4620 meets the second Thursday of each month. Due to the summer maintenance of Hammes Hall\, we will meet in the St. Agnes Center (next to St. Mary’s Church) at 6:30 p.m.  \nAfter the meeting\, there will be dinner and fellowship.  Please plan on attending! \nIf you have any questions\, contact the Grand Knight at (219) 718-4818.
URL:https://www.cpkofc4620.org/event/june-knights-of-columbus-meeting/
LOCATION:St. Agnes Center (next to St. Mary’s Church)\, Crown Point\, IN\, United States
CATEGORIES:Cardinal Stritch Council 4620,Monthly Meeting
END:VEVENT
END:VCALENDAR