BEGIN:VCALENDAR
VERSION:2.0
PRODID:-//Cardinal Stritch Council #4620 - ECPv6.13.2.1//NONSGML v1.0//EN
CALSCALE:GREGORIAN
METHOD:PUBLISH
X-ORIGINAL-URL:https://www.cpkofc4620.org
X-WR-CALDESC:Events for Cardinal Stritch Council #4620
REFRESH-INTERVAL;VALUE=DURATION:PT1H
X-Robots-Tag:noindex
X-PUBLISHED-TTL:PT1H
BEGIN:VTIMEZONE
TZID:America/Chicago
BEGIN:DAYLIGHT
TZOFFSETFROM:-0600
TZOFFSETTO:-0500
TZNAME:CDT
DTSTART:20240310T080000
END:DAYLIGHT
BEGIN:STANDARD
TZOFFSETFROM:-0500
TZOFFSETTO:-0600
TZNAME:CST
DTSTART:20241103T070000
END:STANDARD
BEGIN:DAYLIGHT
TZOFFSETFROM:-0600
TZOFFSETTO:-0500
TZNAME:CDT
DTSTART:20250309T080000
END:DAYLIGHT
BEGIN:STANDARD
TZOFFSETFROM:-0500
TZOFFSETTO:-0600
TZNAME:CST
DTSTART:20251102T070000
END:STANDARD
END:VTIMEZONE
BEGIN:VTIMEZONE
TZID:UTC
BEGIN:STANDARD
TZOFFSETFROM:+0000
TZOFFSETTO:+0000
TZNAME:UTC
DTSTART:20180101T000000
END:STANDARD
END:VTIMEZONE
BEGIN:VEVENT
DTSTART;TZID=America/Chicago:20251206T110000
DTEND;TZID=America/Chicago:20251206T130000
DTSTAMP:20260423T184639
CREATED:20140925T074433Z
LAST-MODIFIED:20251104T230239Z
UID:288-1765018800-1765026000@www.cpkofc4620.org
SUMMARY:Cardinal Stritch Council #4620's Children's Christmas Party
DESCRIPTION:December is a hard month for little children. The anticipation of Santa’s visit on Christmas can be hard on the whole family. A celebration that is just for the kids with food\, games\, prizes\, desserts and even a visit from Santa should take the edge off the holiday craziness. \nThe Knights of Council #4620 are invited to bring their children\, grandchildren\, great-grandchildren\, nieces and nephews\, to the annual Children’s Christmas Party from 11:00 p.m. to 1:00 p.m. for some holiday fun  on Saturday\, December 6th in St. Mary’s  Hammes Hall. \nChildren ages 10 and under will receive a present from Santa. Children older than 10 are invited to have treats. \nTo reserve your family’s place at the biggest party of the year\, contact Grand Knight Dave Stephenson at the number below with the names and ages of your little ones as well as any adults that will be coming. \nIf you would like to help the party run smoothly\, call Dave. All the help would be appreciated!
URL:https://www.cpkofc4620.org/event/cardinal-stritch-council-4620s-childrens-christmas-party/
LOCATION:St. Mary’s Hammes Hall\, 321 East Joliet Street\, Crown Point\, 46307
CATEGORIES:Cardinal Stritch Council 4620,Family Event,Holiday,On The Square Sports Academy,Youth Committe Event
END:VEVENT
BEGIN:VEVENT
DTSTART;TZID=America/Chicago:20251020T183000
DTEND;TZID=America/Chicago:20251020T203000
DTSTAMP:20260423T184639
CREATED:20221020T225047Z
LAST-MODIFIED:20251020T014340Z
UID:2321-1760985000-1760992200@www.cpkofc4620.org
SUMMARY:Pizza Night
DESCRIPTION:The Cardinal Stritch Council 4620 invites all council members to a pizza buffet at Gelsosomo’s Pizzeria on Monday\, October 20th starting at 6:30 p.m. in Crown Point. \nThis is a great excuse to take your significant other out for a date night. The buffet includes pizza\, salad and bread sticks. There will be a cash bar\, but soft drinks and water are part of the package. \nJim Cassoday\, our Knights of Columbus insurance agent\, will be on hand to answer any insurance questions you might have. \nIf you know of any Catholic gentleman who is interested in joining the Knights of Columbus\, please bring them along. \nTo RSVP\, call Dave Stephenson at 219-718-4818.
URL:https://www.cpkofc4620.org/event/pizza-night/
LOCATION:Gelsosomo’s Pizzeria\, 11319 Broadway\, Crown Point\,\, IN\, 46307\, United States
CATEGORIES:Cardinal Stritch Council 4620,Family Event,Recruitment
ATTACH;FMTTYPE=image/jpeg:https://www.cpkofc4620.org/wp-content/uploads/2022/10/pizza.jpeg
END:VEVENT
BEGIN:VEVENT
DTSTART;TZID=America/Chicago:20250824T130000
DTEND;TZID=America/Chicago:20250824T160000
DTSTAMP:20260423T184639
CREATED:20240709T191409Z
LAST-MODIFIED:20250722T203856Z
UID:594-1756040400-1756051200@www.cpkofc4620.org
SUMMARY:Cardinal Stritch Council 4620 Family Picnic
DESCRIPTION:Come and enjoy a great lunch as we restart the annual Cardinal Stritch Council 4620 Family Picnic to be held Sunday\, August 24th at Larry Biegel’s house\, 311 E. Joliet St. in Crown Point. (next door to St. Mary’s Parrish Office.) Parking is available in the Parish Office parking lot. \nThe picnic will be from at 1:00 to 4:00 p.m. \nTo RSVP\, please call Grand Knight Dave Stephenson at 718-4818 with the number of people your bringing and if you are bring a side dish\, salad or dessert.
URL:https://www.cpkofc4620.org/event/family-picnic/
LOCATION:Larry Biegel’s Home\, 311 E. Joliet St\, Crown Point\, IN\, 46307\, United States
CATEGORIES:Cardinal Stritch Council 4620,Family Event
ATTACH;FMTTYPE=image/jpeg:https://www.cpkofc4620.org/wp-content/uploads/2016/10/IMG_0561.jpg
END:VEVENT
BEGIN:VEVENT
DTSTART;TZID=America/Chicago:20250817T113000
DTEND;TZID=America/Chicago:20250817T130000
DTSTAMP:20260423T184639
CREATED:20250812T213412Z
LAST-MODIFIED:20250812T213412Z
UID:3334-1755430200-1755435600@www.cpkofc4620.org
SUMMARY:Reception for Father Don Lewendowski
DESCRIPTION:Father Muha and the Parish office are hosting a reception for our Chaplin\, Father Don Lewendowski on Sunday\, August 19th in Hammas Hall after the 11:30 mass. \nJoin the parish as we gather to offer a huge THANK YOU to Father Don for all the amazing time\, talent and treasure he has shared with our council and the St. Mary’s community throughout the years. \nFor more information call brother Dave at 718-4818.
URL:https://www.cpkofc4620.org/event/reception-for-father-don-lewendowski/
LOCATION:St. Mary’s Hammes Hall\, 321 East Joliet Street\, Crown Point\, 46307
CATEGORIES:Cardinal Stritch Council 4620,Family Event,St. Mary's
END:VEVENT
BEGIN:VEVENT
DTSTART;TZID=America/Chicago:20240908T100000
DTEND;TZID=America/Chicago:20240908T133000
DTSTAMP:20260423T184639
CREATED:20221208T142433Z
LAST-MODIFIED:20250904T173037Z
UID:2100-1725789600-1725802200@www.cpkofc4620.org
SUMMARY:Corporate Communion at Bulldog Park
DESCRIPTION:Our Corporate Communion will be the Outdoor Mass in Bulldog Park at 10:30am.  \nOur rosary will begin at 10:00.   \nAll attending Knights of Columbus are being asked to wear any Knights apparel at this event.  \nPlease make plans to attend with your families as there will be the parish picnic after the mass.  \nFor more information\, please contact the Grand Knight at (219) 718-4818.
URL:https://www.cpkofc4620.org/event/outdoor-corporate-communion/
LOCATION:Bulldog Park\, 183 S West St\, Crown Point\, IN\, 46307\, United States
CATEGORIES:Cardinal Stritch Council 4620,Corporate Communion,Family Event,Outdoor Mass,St. Mary's
ATTACH;FMTTYPE=image/jpeg:https://www.cpkofc4620.org/wp-content/uploads/2021/12/communion_header-e1638468454154.jpg
END:VEVENT
BEGIN:VEVENT
DTSTART;TZID=UTC:20200404T103000
DTEND;TZID=UTC:20200404T110000
DTSTAMP:20260423T184639
CREATED:20160317T210733Z
LAST-MODIFIED:20200325T061043Z
UID:858-1585996200-1585998000@www.cpkofc4620.org
SUMMARY:Easter Egg Hunt - CANCELLED
DESCRIPTION:Due to the COVID-19 pandemic\, This event has been cancelled.\nThe Cardinal Stritch 4620 Council will hold it’s annual Easter Egg Hunt for the children and grandchildren of our members on Saturday\, April 4\, 2020 next to the pool at Sauerman’s Woods Park in Crown Point at 10:30 a.m. There will be Easter baskets for all that are registered. \nTo RSVP\, call Knight Dave Stephenson at 718-4818 or Tom Cashmer at 663-2732 before Friday\, March 23rd. Any and all Knights that would like to help set up are welcomed to be at the park at 10:00 a.m.
URL:https://www.cpkofc4620.org/event/easter-egg-hunt/
LOCATION:Hub Pool\, Crown Point\, IN\, 46307\, United States
CATEGORIES:Cardinal Stritch Council 4620,Easter Egg Hunt,Family Event,Youth Committe Event
END:VEVENT
BEGIN:VEVENT
DTSTART;TZID=UTC:20190704T120000
DTEND;TZID=UTC:20190704T160000
DTSTAMP:20260423T184639
CREATED:20180629T163233Z
LAST-MODIFIED:20190523T074028Z
UID:51-1562241600-1562256000@www.cpkofc4620.org
SUMMARY:Fourth of July Parade
DESCRIPTION:We will be not be constructing a float for the 2019 Fourth of July parade.  \nWe always have a great time at this event and are looking forward to a big member turnout to walk along side the truck and hand out Tootsie Rolls or just ride on the float and wave. \nThis year\, children\, grandchildren or great-grandchildren\, ages 8-17\, of a Knight are welcomed to join us in the parade. \nSound like fun? Call Brother Knight Dave Stephenson at 718-4818 for more information and to reserve your (or your kids’) spot.
URL:https://www.cpkofc4620.org/event/fourth-of-july-parade/
LOCATION:To Be Determined
CATEGORIES:Cardinal Stritch Council 4620,City of Crown Point,Family Event
ATTACH;FMTTYPE=image/jpeg:https://www.cpkofc4620.org/wp-content/uploads/2018/06/DSC_0531-e1530333594163.jpg
END:VEVENT
BEGIN:VEVENT
DTSTART;TZID=UTC:20181026T090000
DTEND;TZID=UTC:20181026T160000
DTSTAMP:20260423T184639
CREATED:20181017T074805Z
LAST-MODIFIED:20181017T074805Z
UID:1511-1540544400-1540569600@www.cpkofc4620.org
SUMMARY:Preparing Hall for Chili Dinner
DESCRIPTION:We will need to prepare Hammes Hall for the Chili Dinner.  The doors will open at 9:00 AM so we can start cooking the chili and corn bread.  We need all available Knights to set the tables up.
URL:https://www.cpkofc4620.org/event/preparing-hall-for-chili-dinner/
LOCATION:St. Mary’s Hammes Hall\, 321 East Joliet Street\, Crown Point\, 46307
CATEGORIES:Cardinal Stritch Council 4620,Chili Dinner,Family Event,Fundraiser
END:VEVENT
BEGIN:VEVENT
DTSTART;TZID=UTC:20180722T193000
DTEND;TZID=UTC:20180722T213000
DTSTAMP:20260423T184639
CREATED:20150626T222435Z
LAST-MODIFIED:20180612T020146Z
UID:381-1532287800-1532295000@www.cpkofc4620.org
SUMMARY:Swim Fest
DESCRIPTION:The Knights of Columbus Cardinal Stritch Council #4620 is sponsoring its 14th Annual Catholic Community Swim Fest at Hub Pool\, Sunday\, July 15\, 2018 from 7:30 – 9:30 p.m. \nEveryone from St. Matthias’ & St. Mary’s parishes are invited! \nThere will be FREE All-You-Can-Eat Hot Dogs\, Snacks and Soft Drinks. \nIf you are not a swimmer\, come by anyway. Have a hot dog and hang out with your fellow parishioners for an hour or so! The Hub Pool is located in Sauerman’s Woods Park on South St.\, east of Indiana Ave.
URL:https://www.cpkofc4620.org/event/swim-fest/
LOCATION:Hub Swimming Pool\, 1000 E. South St\, Crown Point\, IN\, 46307\, United States
CATEGORIES:Family Event
END:VEVENT
BEGIN:VEVENT
DTSTART;TZID=UTC:20180223T163000
DTEND;TZID=UTC:20180223T193000
DTSTAMP:20260423T184639
CREATED:20180125T075225Z
LAST-MODIFIED:20180125T075225Z
UID:1375-1519403400-1519414200@www.cpkofc4620.org
SUMMARY:Fish Fry and Lenten Dinner at St. Mary's Church
DESCRIPTION:The Cardinal Stritch Council #4620 of Crown Point will hold a Fish Fry Lenten Dinner on Friday\, March 23rd from 4:30 p.m. to 7:30 p.m. in St. Mary’s Hammes Hall. Along with delicious fried fish\, this year’s dinner will include delicious cheese pizza and Macaroni & Cheese as well as the usual side dishes. All entrees are AYCE\, with desert\, coffee\, water\, lemonade. Carry-out will be available for the food only. \nSoft drinks and bottled water will be available. \nThe cost of the evening is $12 for Adults\, $6 for kids 12 under. Children under 5 are free. \nThere will be Basket Auctions will be held throughout the evening!
URL:https://www.cpkofc4620.org/event/fish-fry-and-lenten-dinner-at-st-marys-church/
LOCATION:St. Mary’s Hammes Hall\, 321 East Joliet Street\, Crown Point\, 46307
CATEGORIES:Cardinal Stritch Council 4620,Family Event,Fish Fry,Fundraiser,St. Mary's
END:VEVENT
END:VCALENDAR