BEGIN:VCALENDAR
VERSION:2.0
PRODID:-//Cardinal Stritch Council #4620 - ECPv6.13.2.1//NONSGML v1.0//EN
CALSCALE:GREGORIAN
METHOD:PUBLISH
X-WR-CALNAME:Cardinal Stritch Council #4620
X-ORIGINAL-URL:https://www.cpkofc4620.org
X-WR-CALDESC:Events for Cardinal Stritch Council #4620
REFRESH-INTERVAL;VALUE=DURATION:PT1H
X-Robots-Tag:noindex
X-PUBLISHED-TTL:PT1H
BEGIN:VTIMEZONE
TZID:America/Chicago
BEGIN:DAYLIGHT
TZOFFSETFROM:-0600
TZOFFSETTO:-0500
TZNAME:CDT
DTSTART:20260308T080000
END:DAYLIGHT
BEGIN:STANDARD
TZOFFSETFROM:-0500
TZOFFSETTO:-0600
TZNAME:CST
DTSTART:20261101T070000
END:STANDARD
END:VTIMEZONE
BEGIN:VEVENT
DTSTART;TZID=America/Chicago:20260504T190000
DTEND;TZID=America/Chicago:20260504T203000
DTSTAMP:20260423T130316
CREATED:20221209T221757Z
LAST-MODIFIED:20260317T003940Z
UID:2416-1777921200-1777926600@www.cpkofc4620.org
SUMMARY:May Officers Meeting
DESCRIPTION:Our monthly officers meeting will be at 7:00 pm. at Brother Larry. Beigel’s house\, 311 E. Joliet St in Crown Point (the stone house next to the Parish Office).  All officers meetings are scheduled for the first Monday of the month. \nFor more information\, contact Dave Stephenson at 219-718-4818.
URL:https://www.cpkofc4620.org/event/may-officers-meeting/
LOCATION:Larry Biegel’s Home\, 311 E. Joliet St\, Crown Point\, IN\, 46307\, United States
CATEGORIES:Cardinal Stritch Council 4620,Officers Meeting
ATTACH;FMTTYPE=image/jpeg:https://www.cpkofc4620.org/wp-content/uploads/2021/10/jewels2.jpg
END:VEVENT
END:VCALENDAR