BEGIN:VCALENDAR
VERSION:2.0
PRODID:-//Cardinal Stritch Council #4620 - ECPv6.13.2.1//NONSGML v1.0//EN
CALSCALE:GREGORIAN
METHOD:PUBLISH
X-ORIGINAL-URL:https://www.cpkofc4620.org
X-WR-CALDESC:Events for Cardinal Stritch Council #4620
REFRESH-INTERVAL;VALUE=DURATION:PT1H
X-Robots-Tag:noindex
X-PUBLISHED-TTL:PT1H
BEGIN:VTIMEZONE
TZID:UTC
BEGIN:STANDARD
TZOFFSETFROM:+0000
TZOFFSETTO:+0000
TZNAME:UTC
DTSTART:20140101T000000
END:STANDARD
END:VTIMEZONE
BEGIN:VEVENT
DTSTART;VALUE=DATE:20170921
DTEND;VALUE=DATE:20170926
DTSTAMP:20260424T024735
CREATED:20160505T212821Z
LAST-MODIFIED:20170912T090916Z
UID:880-1505952000-1506383999@www.cpkofc4620.org
SUMMARY:St. Matthias' Garage Sale Donation Drop Off
DESCRIPTION:Volunteers are needed to help St. Matthias’ with the donation drop for their Annual Fall Garage Sale.  \nCollection: Thursday\, September 21 – Monday\, September 25 from 9:00 to 6:00 p.m. Able bodies will be needed to accept items.  \nWe need a good Knight showing to help this event run smoothly.  If you can give an hour or two\, please sign up to help.  Please fill out the attached volunteer form below and return it to the St. Matthias Parish Office or  email it to Jackie Wallace. \nFor more information\, contact Jackie Wallace at 219-682-5272. \n\n2017 St. Matthias Garage Sale volunteer form
URL:https://www.cpkofc4620.org/event/st-matthias-garage-sale-donation-drop-off/
LOCATION:St. Matthias Roman Catholic Church\, 101 W. Burrell Drive\, Crown Point\, 46307\, United States
CATEGORIES:Cardinal Stritch Council 4620,City of Crown Point,St. Matthias
ATTACH;FMTTYPE=image/jpeg:https://www.cpkofc4620.org/wp-content/uploads/2016/05/st.matthais_garagesale.jpeg
END:VEVENT
BEGIN:VEVENT
DTSTART;TZID=UTC:20170806T090000
DTEND;TZID=UTC:20170806T180000
DTSTAMP:20260424T024735
CREATED:20170625T224029Z
LAST-MODIFIED:20170625T224029Z
UID:1114-1502010000-1502042400@www.cpkofc4620.org
SUMMARY:Summer Second and Third Degree Exemplification
DESCRIPTION:A Second and Third Degree Exemplification will be hosted by Angelo Roncalli Council 5584 on Sunday August 6\, 2017 Rochester\, IN 46975.  \nWe will meet at St. Mary’s Church parking lot at 9:00 a.m. \nCandidate Registration will begin at 11:30 am ET. Candidates should arrive no later than 12:15 pm ET. There will be no admission after 12:15 am ET as doors will be closed. The Formation Degree will begin at 12:30 pm ET. The Knighthood Degree will follow immediately. \nCandidates must present their current First Degree membership card at registration. Other K of C members attending as guests must also present their current membership cards for admittance.  \nRemember if you are a sponsor of a candidate you should bring him to the degree. Refreshments will be served afterwards. \nAttire is business casual.
URL:https://www.cpkofc4620.org/event/summer-second-and-third-degree-exemplification/
LOCATION:St. Joseph Catholic Church Hall\, 1310 Main St.\, Rochester\, IN\, 46975\, United States
CATEGORIES:Cardinal Stritch Council 4620,Degree Exemplification
END:VEVENT
BEGIN:VEVENT
DTSTART;TZID=UTC:20170702T120000
DTEND;TZID=UTC:20170702T170000
DTSTAMP:20260424T024735
CREATED:20170625T220522Z
LAST-MODIFIED:20170625T220522Z
UID:1109-1498996800-1499014800@www.cpkofc4620.org
SUMMARY:Building the Float (if needed)
DESCRIPTION:We will be constructing the 2017 Fourth of July float at Dave Willy’s brother’s barn this weekend. The barn is located at 13232 Delaware St. in Crown Point\, IN. We will start at 1:00 p.m. Bring a hammer and screwdriver. \nWe always have a great time at this event and are looking forward to a big member turnout to walk along side the float and hand out Tootsie Rolls or just ride on the float and wave. \nThis year\, children\, grandchildren or great-grandchildren\, ages 8-17\, of a Knight are welcomed to join us in the parade. \nSound like fun? Call Brother Knight Dave Stephenson at 718-4818 for more information and to reserve your (or your kids’) spot on this year’s float.
URL:https://www.cpkofc4620.org/event/building-the-float-if-needed/
CATEGORIES:Cardinal Stritch Council 4620
END:VEVENT
BEGIN:VEVENT
DTSTART;TZID=UTC:20170701T120000
DTEND;TZID=UTC:20170701T180000
DTSTAMP:20260424T024735
CREATED:20140610T114006Z
LAST-MODIFIED:20170625T215152Z
UID:54-1498910400-1498932000@www.cpkofc4620.org
SUMMARY:Building the Float
DESCRIPTION:We will be constructing the 2017 Fourth of July float at Dave Willy’s brother’s barn this weekend. The barn is located at 13232 Delaware St. in Crown Point\, IN. We will start at 1:00 p.m. Bring a hammer and screwdriver. \nWe always have a great time at this event and are looking forward to a big member turnout to walk along side the float and hand out Tootsie Rolls or just ride on the float and wave. \nThis year\, children\, grandchildren or great-grandchildren\, ages 8-17\, of a Knight are welcomed to join us in the parade. \nSound like fun? Call Brother Knight Dave Stephenson at 718-4818 for more information and to reserve your (or your kids’) spot on this year’s float.
URL:https://www.cpkofc4620.org/event/building-the-float/
LOCATION:Dave Willy’s Brother’s Barn\, 13232 Delaware St\, Crown Point\, United States
CATEGORIES:Cardinal Stritch Council 4620
END:VEVENT
BEGIN:VEVENT
DTSTART;TZID=UTC:20170525T080000
DTEND;TZID=UTC:20170525T133000
DTSTAMP:20260424T024735
CREATED:20160505T212440Z
LAST-MODIFIED:20170426T001700Z
UID:879-1495699200-1495719000@www.cpkofc4620.org
SUMMARY:St. Matthias' Annual Garage Sale
DESCRIPTION:Volunteers are needed to help St. Matthias’ with their Annual Garage Sale. \nDuring the days of the sale\, Thursday\, May 25th and Friday\, May 26th\, Cardinal Stritch Council will be selling hot dogs and refreshments in their Community Center from 8:30 a.m. to 1:30 p.m. each day.  \nFrom 8:00 a.m. through the Garage Sale\, able bodied Knights will be needed to accept items at the Garage Sale Donation Drop off.  \nPlease fill out the attached volunteer form below and return it to the St. Matthias Parish Office or email it to Jackie Wallace at jlw953@hotmail.com.  We need a good Knight showing to help this event run smoothly. \nFor more information\, contact Jackie Wallace at 219-662-1474. \n\n2017 St. Matthias Garage Sale volunteer form
URL:https://www.cpkofc4620.org/event/st-matthias-annual-garage-sale/
LOCATION:St. Matthias Roman Catholic Church\, 101 W. Burrell Drive\, Crown Point\, 46307\, United States
CATEGORIES:Cardinal Stritch Council 4620,Fundraiser,St. Matthias
ATTACH;FMTTYPE=image/jpeg:https://www.cpkofc4620.org/wp-content/uploads/2016/05/st.matthais_garagesale.jpeg
END:VEVENT
BEGIN:VEVENT
DTSTART;TZID=UTC:20161027T190000
DTEND;TZID=UTC:20161027T210000
DTSTAMP:20260424T024735
CREATED:20160909T060539Z
LAST-MODIFIED:20160909T060539Z
UID:967-1477594800-1477602000@www.cpkofc4620.org
SUMMARY:Recruitment Dinner
DESCRIPTION:Knights of Columbus Cardinal Stritch Council 4620 is holding their recruitment dinner at the Crown Point Civic Center on Thursday\, October 27\, 2016. \nFor more information call Larry Biegel.
URL:https://www.cpkofc4620.org/event/recruitment-dinner/
LOCATION:Crown Point Civic Center\, 330 N. East St. \, Crown Point\, 46307\, United States
CATEGORIES:Cardinal Stritch Council 4620,Recruitment,Social Meeting
END:VEVENT
BEGIN:VEVENT
DTSTART;TZID=UTC:20160730T160000
DTEND;TZID=UTC:20160730T220000
DTSTAMP:20260424T024735
CREATED:20160719T233326Z
LAST-MODIFIED:20160720T002557Z
UID:928-1469894400-1469916000@www.cpkofc4620.org
SUMMARY:St. Matthais' Trivia Night
DESCRIPTION:The Cardinal Stritch Council 4620 is thinking of forming our own team of 8 for the St. Matthais’ Trivia Night on Saturday\, July 30th (5:00 pm Dinner\, 6:00 pm Start). Doors open immediately following 4:00 p.m. Mass.  Event will be in the Large Hall.  \nJoin Us for an evening of FUN!! Hamburgers & Hotdogs will be provided! Please bring your favorite side dish or dessert! \nFor more information or to get your RSVP in by July 27th\, contact Larry Biegel at 662-1474 or Jackie Gentry at 663-4281.
URL:https://www.cpkofc4620.org/event/st-matthais-trivia-night/
LOCATION:St. Matthias Roman Catholic Church\, 101 W. Burrell Drive\, Crown Point\, 46307\, United States
CATEGORIES:Cardinal Stritch Council 4620,St. Matthias
ATTACH;FMTTYPE=image/png:https://www.cpkofc4620.org/wp-content/uploads/2016/07/TriviaNight.png
END:VEVENT
BEGIN:VEVENT
DTSTART;TZID=UTC:20160602T190000
DTEND;TZID=UTC:20160602T213000
DTSTAMP:20260424T024735
CREATED:20150924T090720Z
LAST-MODIFIED:20160429T051947Z
UID:651-1464894000-1464903000@www.cpkofc4620.org
SUMMARY:2016 New Member Recruitment Dinner
DESCRIPTION:Our New Member recruitment is Thursday\, June 2nd at Carriage Court Pizza in Crown Point\, IN.  Both members and their wives\, as well to anyone who is interested in becoming a Knight\, are invited meet in the upstairs restaurant to enjoy pizza and beer.  We will be handing out Knights of Columbus literature and answering questions. We need all the Knights we can get for this event.
URL:https://www.cpkofc4620.org/event/2016-new-member-recruitment-6-02-2016/
LOCATION:Carriage Court Pizza\, 211 S East St.\, Crown Point\, 46307
CATEGORIES:Cardinal Stritch Council 4620,Recruitment
ATTACH;FMTTYPE=image/png:https://www.cpkofc4620.org/wp-content/uploads/2015/09/180px-Knights_of_Columbus_color_enhanced_vector_kam_svg.278153835_logo.png
END:VEVENT
BEGIN:VEVENT
DTSTART;TZID=UTC:20160103T140000
DTEND;TZID=UTC:20160103T180000
DTSTAMP:20260424T024735
CREATED:20151216T114649Z
LAST-MODIFIED:20151216T114649Z
UID:710-1451829600-1451844000@www.cpkofc4620.org
SUMMARY:South Lake Special Olympics Winter’s Walk
DESCRIPTION:Sunday\, January 3rd at the Merrillville High School. \nSign up in the Freshmen Cafeteria starting at 2:00 p.m. \nWalk begins at 3:00 p.m. Dinner and hot cocoa afterwards with a concert by the absolutely wonderful Merrillville High School Jazz Band. \nWhat a  great way to spend a wintery Sunday Afternoon!!
URL:https://www.cpkofc4620.org/event/south-lake-special-olympics-winters-walk/
LOCATION:Merrillville High School\, 276 E 68th Pl\,\, Merrillville\, 46410\, United States
CATEGORIES:Cardinal Stritch Council 4620,Special Olympics Indiana
ATTACH;FMTTYPE=image/png:https://www.cpkofc4620.org/wp-content/uploads/2015/12/special_olympics_logo.png
END:VEVENT
BEGIN:VEVENT
DTSTART;TZID=UTC:20151130T190000
DTEND;TZID=UTC:20151130T203000
DTSTAMP:20260424T024735
CREATED:20151116T093715Z
LAST-MODIFIED:20151116T094333Z
UID:666-1448910000-1448915400@www.cpkofc4620.org
SUMMARY:New Member Recruitment Mass with Bishop Donald Hying
DESCRIPTION:Come and join Most Reverend Donald J. Hying\, Bishop of Gary\, as he offers up a Mass for potential and current members of the Knights of Columbus on Monday\, November 30\, 2015 at Our Lady of Consolation Catholic Church at 7:00 p.m. \nThis is an opportunity to bring those potential new members to hear our new Bishop talk about the values that we offer our members\, and our shared faith which unites us. Coffee and cake to follow. \nRSVP with Brother Eric Olson. \n  \nDownload Bishop Hying Mass Flyer
URL:https://www.cpkofc4620.org/event/new-member-recruitment-mass-with-bishop-donald-hying/
LOCATION:Our Lady of Consolation Catholic Church\, 8303 Taft Street\, Merrillville\, IN\, 46410\, United States
CATEGORIES:Cardinal Stritch Council 4620,Recruitment
ATTACH;FMTTYPE=image/jpeg:https://www.cpkofc4620.org/wp-content/uploads/2015/11/Bishop-Hying.jpg
END:VEVENT
BEGIN:VEVENT
DTSTART;TZID=UTC:20151022T183000
DTEND;TZID=UTC:20151022T190000
DTSTAMP:20260424T024735
CREATED:20151020T065935Z
LAST-MODIFIED:20151020T065935Z
UID:655-1445538600-1445540400@www.cpkofc4620.org
SUMMARY:Home Association Election of 2015-16 Officers
DESCRIPTION:The Home Association will meet at 6:30 p.m.\, before our October Social Meeting on October 22\, 2015 at the St. Agnes Center to elect officers for the next coming year. As a card carrying member of the Knights of Columbus and Cardinal Stritch Council 4620\, each one of us has a vote in this election.
URL:https://www.cpkofc4620.org/event/home-association-election-of-2015-16-officers/
LOCATION:St. Agnes Center (next to St. Mary’s Church)\, Crown Point\, IN\, United States
CATEGORIES:Home Association
END:VEVENT
BEGIN:VEVENT
DTSTART;TZID=UTC:20151010T080000
DTEND;TZID=UTC:20151010T170000
DTSTAMP:20260424T024735
CREATED:20150924T090125Z
LAST-MODIFIED:20150924T090125Z
UID:649-1444464000-1444496400@www.cpkofc4620.org
SUMMARY:2015 New Member Recruitment
DESCRIPTION:Our New Member recruitment at St. Mary’s Church is the weekend of the October 10th after each mass.  We will be handing out Knights of Columbus literature\, answering questions\, and selling Chili Supper tickets. We need all the Knights we can get for this event.
URL:https://www.cpkofc4620.org/event/2015-new-member-recruitment/
LOCATION:St. Mary Catholic Church\, 321 E Joliet St\, Crown Point\, IN\, 46307\, United States
CATEGORIES:Cardinal Stritch Council 4620,Recruitment
ATTACH;FMTTYPE=image/png:https://www.cpkofc4620.org/wp-content/uploads/2015/09/180px-Knights_of_Columbus_color_enhanced_vector_kam_svg.278153835_logo.png
END:VEVENT
BEGIN:VEVENT
DTSTART;TZID=UTC:20151004T130000
DTEND;TZID=UTC:20151004T160000
DTSTAMP:20260424T024735
CREATED:20150924T085313Z
LAST-MODIFIED:20150924T085537Z
UID:647-1443963600-1443974400@www.cpkofc4620.org
SUMMARY:2015 Crown Point Pumpkin Fest
DESCRIPTION:The Crown Point Pumpkin Fest on the Sunday\, October 4th on the Courthouse Square from 1:00 to 4:00 p.m. \nThis year the Pumpkin Festival will be held in conjunction with the Crown Point Fire Department. The Fire Department will host their open house from 11 a.m. to 3 p.m. Families will enjoy free hot dogs\, chips\, pop and popcorn along with rides on a fire engine\, a tour of the station and meeting the new fire dog. \nWe will be selling coffee and hot chocolate. Volunteers are needed. \nThe Crown Point Pumpkin Festival is a free\, family-oriented event in downtown Crown Point\, Indiana. The event has several locations providing different activities for children and adults. See our Activities/Schedule for more information.
URL:https://www.cpkofc4620.org/event/2015-crown-point-pumpkin-fest/
LOCATION:Crown Point Court House\, Joliet St.\, Crown Point\, IN\, 46307\, United States
CATEGORIES:Cardinal Stritch Council 4620,City of Crown Point
END:VEVENT
BEGIN:VEVENT
DTSTART;TZID=UTC:20150813T190000
DTEND;TZID=UTC:20150813T203000
DTSTAMP:20260424T024735
CREATED:20140616T050251Z
LAST-MODIFIED:20150626T223936Z
UID:119-1439492400-1439497800@www.cpkofc4620.org
SUMMARY:August Business Meeting
DESCRIPTION:The August business meeting will be held Thursday\, August 13\, 2015 at 7:00 p.m. at Lector Joe Martinez’ pole barn at 5496 W 107th Ct. Crown Point\, IN. at 7:00 p.m. (near RT231 and Hanley St. west of the square.).
URL:https://www.cpkofc4620.org/event/business-meeting-august/
LOCATION:The Joseph and Mary’s Stable\, 5496 W 107th Ct.\, Crown Point\, IN\, 46307\, United States
CATEGORIES:Business Meeting
END:VEVENT
BEGIN:VEVENT
DTSTART;TZID=UTC:20150613T180000
DTEND;TZID=UTC:20150613T230000
DTSTAMP:20260424T024735
CREATED:20140610T123537Z
LAST-MODIFIED:20150519T082337Z
UID:62-1434218400-1434236400@www.cpkofc4620.org
SUMMARY:Night at Balmoral Park
DESCRIPTION:$30.00 per person. Price includes admission to the club section\, a buffet dinner before the races\, and a racing form. \nBring money and sign up with Br. Vince at the Social meeting on Thursday\, May 28th\, 2015.
URL:https://www.cpkofc4620.org/event/night-at-balmoral-park-race-track/
LOCATION:Balmoral Park Race Track\, 26435 S Dixie Hwy.\, Crete\, IL\, 60417\, United States
CATEGORIES:Cardinal Stritch Council 4620
END:VEVENT
BEGIN:VEVENT
DTSTART;TZID=UTC:20141023T190000
DTEND;TZID=UTC:20141023T210000
DTSTAMP:20260424T024735
CREATED:20141020T055637Z
LAST-MODIFIED:20141020T055637Z
UID:294-1414090800-1414098000@www.cpkofc4620.org
SUMMARY:October Social Meeeting
DESCRIPTION:Our October Social Meeting will be at Lector Joe Martinez’ pole barn at 5496 W 107th Ct. Crown Point\, IN. at 7:00 p.m. (near RT231 and Hanley St. west of the square.)
URL:https://www.cpkofc4620.org/event/october-social-meeeting/
LOCATION:The Joseph and Mary’s Stable\, 5496 W 107th Ct.\, Crown Point\, IN\, 46307\, United States
CATEGORIES:Social Meeting
END:VEVENT
BEGIN:VEVENT
DTSTART;TZID=UTC:20140914T130000
DTEND;TZID=UTC:20140914T170000
DTSTAMP:20260424T024735
CREATED:20140616T045216Z
LAST-MODIFIED:20140905T071640Z
UID:115-1410699600-1410714000@www.cpkofc4620.org
SUMMARY:Council 4620 Family Picnic
DESCRIPTION:
URL:https://www.cpkofc4620.org/event/council-4620-family-picnic/
LOCATION:Sauerman Woods Park\, Crown Point\, IN\, 46307\, United States
CATEGORIES:Cardinal Stritch Council 4620
END:VEVENT
BEGIN:VEVENT
DTSTART;TZID=UTC:20140803T130000
DTEND;TZID=UTC:20140803T170000
DTSTAMP:20260424T024735
CREATED:20140708T071222Z
LAST-MODIFIED:20140721T085810Z
UID:198-1407070800-1407085200@www.cpkofc4620.org
SUMMARY:Gary SouthShore RailCats Baseball Game - CANCELED
DESCRIPTION:This Outing has been Canceled\n 
URL:https://www.cpkofc4620.org/event/gary-southshore-railcats-baseball-game/
LOCATION:U.S Steel Yard\, One Stadium Plaza\, Gary\, IN\, 46402\, United States
CATEGORIES:Cardinal Stritch Council 4620
END:VEVENT
BEGIN:VEVENT
DTSTART;TZID=UTC:20140720T193000
DTEND;TZID=UTC:20140720T213000
DTSTAMP:20260424T024735
CREATED:20140708T064431Z
LAST-MODIFIED:20140708T074416Z
UID:196-1405884600-1405891800@www.cpkofc4620.org
SUMMARY:Swim Fest
DESCRIPTION:The Knights of Columbus Cardinal Stritch Council #4620 is sponsoring its 10th Annual Catholic Community Swim Fest at Hub Pool\, Sunday\, July 20\, 2014 from 7:30 – 9:30 p.m. \nEveryone from St. Matthias’ & St. Mary’s Parishes are Invited! \nThere wil be FREE All-You-Can-Eat Hot Dogs\, Snacks and Soft Drinks. \nIf you are not a swimmer\, come by anyway. Have a hot dog and hang out with your fellow parishioners for an hour or so! The Hub Pool is located in Sauer’s Woods Park on South St. east of Indiana Ave. \n 
URL:https://www.cpkofc4620.org/event/swim-fest-2/
LOCATION:Hub Swimming Pool\, 1000 E. South St\, Crown Point\, IN\, 46307\, United States
CATEGORIES:Cardinal Stritch Council 4620
END:VEVENT
END:VCALENDAR