BEGIN:VCALENDAR
VERSION:2.0
PRODID:-//Cardinal Stritch Council #4620 - ECPv6.13.2.1//NONSGML v1.0//EN
CALSCALE:GREGORIAN
METHOD:PUBLISH
X-WR-CALNAME:Cardinal Stritch Council #4620
X-ORIGINAL-URL:https://www.cpkofc4620.org
X-WR-CALDESC:Events for Cardinal Stritch Council #4620
REFRESH-INTERVAL;VALUE=DURATION:PT1H
X-Robots-Tag:noindex
X-PUBLISHED-TTL:PT1H
BEGIN:VTIMEZONE
TZID:America/Chicago
BEGIN:DAYLIGHT
TZOFFSETFROM:-0600
TZOFFSETTO:-0500
TZNAME:CDT
DTSTART:20250309T080000
END:DAYLIGHT
BEGIN:STANDARD
TZOFFSETFROM:-0500
TZOFFSETTO:-0600
TZNAME:CST
DTSTART:20251102T070000
END:STANDARD
END:VTIMEZONE
BEGIN:VTIMEZONE
TZID:UTC
BEGIN:STANDARD
TZOFFSETFROM:+0000
TZOFFSETTO:+0000
TZNAME:UTC
DTSTART:20150101T000000
END:STANDARD
END:VTIMEZONE
BEGIN:VEVENT
DTSTART;TZID=America/Chicago:20251026T070000
DTEND;TZID=America/Chicago:20251026T130000
DTSTAMP:20260423T200407
CREATED:20221005T060949Z
LAST-MODIFIED:20251020T014619Z
UID:2270-1761462000-1761483600@www.cpkofc4620.org
SUMMARY:Coffee & Donuts for Knights of Columbus
DESCRIPTION:The Knights of Columbus Cardinal Stritch Council #4620 will serve donuts and coffee after all the masses on Sunday\, October 26th in Hammes Hall.  \nOctober is our month-long membership drive. It is a chance for the parish to get to know it’s Knight’s council and a chance for Catholic gentleman to join our Order.  \nIf you could help set up or take down on Sunday Morning\, it would be a great chance to see your brother Knights. \nFor more information on all these events\, please contact the Grand Knight at (219) 718-4818.
URL:https://www.cpkofc4620.org/event/coffee-donuts-for-knights-of-columbus/
LOCATION:St. Mary’s Hammes Hall\, 321 East Joliet Street\, Crown Point\, 46307
CATEGORIES:Donuts & Coffee,Recruitment
ATTACH;FMTTYPE=image/jpeg:https://www.cpkofc4620.org/wp-content/uploads/2023/09/coffeeanddonuts-e1695308892650.jpeg
END:VEVENT
BEGIN:VEVENT
DTSTART;TZID=America/Chicago:20251020T183000
DTEND;TZID=America/Chicago:20251020T203000
DTSTAMP:20260423T200407
CREATED:20221020T225047Z
LAST-MODIFIED:20251020T014340Z
UID:2321-1760985000-1760992200@www.cpkofc4620.org
SUMMARY:Pizza Night
DESCRIPTION:The Cardinal Stritch Council 4620 invites all council members to a pizza buffet at Gelsosomo’s Pizzeria on Monday\, October 20th starting at 6:30 p.m. in Crown Point. \nThis is a great excuse to take your significant other out for a date night. The buffet includes pizza\, salad and bread sticks. There will be a cash bar\, but soft drinks and water are part of the package. \nJim Cassoday\, our Knights of Columbus insurance agent\, will be on hand to answer any insurance questions you might have. \nIf you know of any Catholic gentleman who is interested in joining the Knights of Columbus\, please bring them along. \nTo RSVP\, call Dave Stephenson at 219-718-4818.
URL:https://www.cpkofc4620.org/event/pizza-night/
LOCATION:Gelsosomo’s Pizzeria\, 11319 Broadway\, Crown Point\,\, IN\, 46307\, United States
CATEGORIES:Cardinal Stritch Council 4620,Family Event,Recruitment
ATTACH;FMTTYPE=image/jpeg:https://www.cpkofc4620.org/wp-content/uploads/2022/10/pizza.jpeg
END:VEVENT
BEGIN:VEVENT
DTSTART;TZID=UTC:20221008T160000
DTEND;TZID=UTC:20221008T174500
DTSTAMP:20260423T200407
CREATED:20221005T060736Z
LAST-MODIFIED:20221005T060932Z
UID:2269-1665244800-1665251100@www.cpkofc4620.org
SUMMARY:Coffee & Donuts for Knights of Columbus
DESCRIPTION:The Knights of Columbus Cardinal Stritch Council #4620 will to serve donuts and coffee after the 4:30 on Saturday\, October 8th mass after after all the masses on Sunday\, October 9th on the St. Agnes porch.  \nOctober is our month-long membership drive. It is a chance for the parish to get to know it’s Knight’s council and a chance for Catholic gentleman to join our Order.  \nIf you could help set up or take down both Saturday afternoon and Sunday Morning\, it would be a great chance to see your brother Knights. \nFor more information on all these events\, please contact the Grand Knight at (219) 718-4818.
URL:https://www.cpkofc4620.org/event/coffee-donuts-for-knights-of-columbus-10-08/
LOCATION:St. Agnes Center (next to St. Mary’s Church)\, Crown Point\, IN\, United States
CATEGORIES:Recruitment
END:VEVENT
BEGIN:VEVENT
DTSTART;TZID=UTC:20161027T190000
DTEND;TZID=UTC:20161027T210000
DTSTAMP:20260423T200407
CREATED:20160909T060539Z
LAST-MODIFIED:20160909T060539Z
UID:967-1477594800-1477602000@www.cpkofc4620.org
SUMMARY:Recruitment Dinner
DESCRIPTION:Knights of Columbus Cardinal Stritch Council 4620 is holding their recruitment dinner at the Crown Point Civic Center on Thursday\, October 27\, 2016. \nFor more information call Larry Biegel.
URL:https://www.cpkofc4620.org/event/recruitment-dinner/
LOCATION:Crown Point Civic Center\, 330 N. East St. \, Crown Point\, 46307\, United States
CATEGORIES:Cardinal Stritch Council 4620,Recruitment,Social Meeting
END:VEVENT
BEGIN:VEVENT
DTSTART;TZID=UTC:20160602T190000
DTEND;TZID=UTC:20160602T213000
DTSTAMP:20260423T200407
CREATED:20150924T090720Z
LAST-MODIFIED:20160429T051947Z
UID:651-1464894000-1464903000@www.cpkofc4620.org
SUMMARY:2016 New Member Recruitment Dinner
DESCRIPTION:Our New Member recruitment is Thursday\, June 2nd at Carriage Court Pizza in Crown Point\, IN.  Both members and their wives\, as well to anyone who is interested in becoming a Knight\, are invited meet in the upstairs restaurant to enjoy pizza and beer.  We will be handing out Knights of Columbus literature and answering questions. We need all the Knights we can get for this event.
URL:https://www.cpkofc4620.org/event/2016-new-member-recruitment-6-02-2016/
LOCATION:Carriage Court Pizza\, 211 S East St.\, Crown Point\, 46307
CATEGORIES:Cardinal Stritch Council 4620,Recruitment
ATTACH;FMTTYPE=image/png:https://www.cpkofc4620.org/wp-content/uploads/2015/09/180px-Knights_of_Columbus_color_enhanced_vector_kam_svg.278153835_logo.png
END:VEVENT
BEGIN:VEVENT
DTSTART;TZID=UTC:20151130T190000
DTEND;TZID=UTC:20151130T203000
DTSTAMP:20260423T200407
CREATED:20151116T093715Z
LAST-MODIFIED:20151116T094333Z
UID:666-1448910000-1448915400@www.cpkofc4620.org
SUMMARY:New Member Recruitment Mass with Bishop Donald Hying
DESCRIPTION:Come and join Most Reverend Donald J. Hying\, Bishop of Gary\, as he offers up a Mass for potential and current members of the Knights of Columbus on Monday\, November 30\, 2015 at Our Lady of Consolation Catholic Church at 7:00 p.m. \nThis is an opportunity to bring those potential new members to hear our new Bishop talk about the values that we offer our members\, and our shared faith which unites us. Coffee and cake to follow. \nRSVP with Brother Eric Olson. \n  \nDownload Bishop Hying Mass Flyer
URL:https://www.cpkofc4620.org/event/new-member-recruitment-mass-with-bishop-donald-hying/
LOCATION:Our Lady of Consolation Catholic Church\, 8303 Taft Street\, Merrillville\, IN\, 46410\, United States
CATEGORIES:Cardinal Stritch Council 4620,Recruitment
ATTACH;FMTTYPE=image/jpeg:https://www.cpkofc4620.org/wp-content/uploads/2015/11/Bishop-Hying.jpg
END:VEVENT
BEGIN:VEVENT
DTSTART;TZID=UTC:20151010T080000
DTEND;TZID=UTC:20151010T170000
DTSTAMP:20260423T200407
CREATED:20150924T090125Z
LAST-MODIFIED:20150924T090125Z
UID:649-1444464000-1444496400@www.cpkofc4620.org
SUMMARY:2015 New Member Recruitment
DESCRIPTION:Our New Member recruitment at St. Mary’s Church is the weekend of the October 10th after each mass.  We will be handing out Knights of Columbus literature\, answering questions\, and selling Chili Supper tickets. We need all the Knights we can get for this event.
URL:https://www.cpkofc4620.org/event/2015-new-member-recruitment/
LOCATION:St. Mary Catholic Church\, 321 E Joliet St\, Crown Point\, IN\, 46307\, United States
CATEGORIES:Cardinal Stritch Council 4620,Recruitment
ATTACH;FMTTYPE=image/png:https://www.cpkofc4620.org/wp-content/uploads/2015/09/180px-Knights_of_Columbus_color_enhanced_vector_kam_svg.278153835_logo.png
END:VEVENT
END:VCALENDAR