BEGIN:VCALENDAR
VERSION:2.0
PRODID:-//Cardinal Stritch Council #4620 - ECPv6.13.2.1//NONSGML v1.0//EN
CALSCALE:GREGORIAN
METHOD:PUBLISH
X-WR-CALNAME:Cardinal Stritch Council #4620
X-ORIGINAL-URL:https://www.cpkofc4620.org
X-WR-CALDESC:Events for Cardinal Stritch Council #4620
REFRESH-INTERVAL;VALUE=DURATION:PT1H
X-Robots-Tag:noindex
X-PUBLISHED-TTL:PT1H
BEGIN:VTIMEZONE
TZID:UTC
BEGIN:STANDARD
TZOFFSETFROM:+0000
TZOFFSETTO:+0000
TZNAME:UTC
DTSTART:20140101T000000
END:STANDARD
END:VTIMEZONE
BEGIN:VEVENT
DTSTART;TZID=UTC:20200423T190000
DTEND;TZID=UTC:20200423T210000
DTSTAMP:20260423T185200
CREATED:20150410T071337Z
LAST-MODIFIED:20200325T061056Z
UID:339-1587668400-1587675600@www.cpkofc4620.org
SUMMARY:April Social Meeting - CANCELLED
DESCRIPTION:Due to the COVID-19 pandemic\, This event has been cancelled.\nOur April Social Meeting will be at brother Joe Martinez’ pole barn at 5496 W 107th Ct. Crown Point\, IN. at 7:00 p.m. (near RT231 and Hanley St. west of the square.) \nIf you need a ride\, be at St. Mary’s Church at 6:30 or contact Larry Biegel at 662-1474.
URL:https://www.cpkofc4620.org/event/april-social-meeting/
LOCATION:The Joseph and Mary’s Stable\, 5496 W 107th Ct.\, Crown Point\, IN\, 46307\, United States
CATEGORIES:Cardinal Stritch Council 4620,Social Meeting
END:VEVENT
BEGIN:VEVENT
DTSTART;TZID=UTC:20200326T190000
DTEND;TZID=UTC:20200326T210000
DTSTAMP:20260423T185200
CREATED:20200325T012539Z
LAST-MODIFIED:20200325T061449Z
UID:865-1585249200-1585256400@www.cpkofc4620.org
SUMMARY:March Social Meeting - CANCELLED
DESCRIPTION:Due to the COVID-19 pandemic\, This event has been cancelled.\nOur March Social Meeting will be on Thursday\, March 26\, 2020 at 7:00 p.m. in St. Agnes Center (next to St. Mary’s Church).
URL:https://www.cpkofc4620.org/event/march-social-meeting/
LOCATION:St. Agnes Center (next to St. Mary’s Church)\, Crown Point\, IN\, United States
CATEGORIES:Cardinal Stritch Council 4620,Fish Fry,Fundraiser,Social Meeting,St. Mary's
ATTACH;FMTTYPE=image/png:https://www.cpkofc4620.org/wp-content/uploads/2015/09/180px-Knights_of_Columbus_color_enhanced_vector_kam_svg.278153835_logo.png
END:VEVENT
BEGIN:VEVENT
DTSTART;TZID=UTC:20190627T190000
DTEND;TZID=UTC:20190627T203000
DTSTAMP:20260423T185200
CREATED:20160317T212743Z
LAST-MODIFIED:20190523T073323Z
UID:866-1561662000-1561667400@www.cpkofc4620.org
SUMMARY:June Social Meeting
DESCRIPTION:Our June Social Meeting will be on Thursday\, June 27\, 2019 at 7:00 p.m. at brother Joe Martinez’s Joseph and Mary’s Stable at 5496 W 107th Ct. Crown Point\, IN. at 7:00 p.m. (near RT231 and Hanley St. west of the square.)
URL:https://www.cpkofc4620.org/event/june-social-meeting/
LOCATION:The Joseph and Mary’s Stable\, 5496 W 107th Ct.\, Crown Point\, IN\, 46307\, United States
CATEGORIES:Cardinal Stritch Council 4620,Social Meeting
END:VEVENT
BEGIN:VEVENT
DTSTART;TZID=UTC:20190523T190000
DTEND;TZID=UTC:20190523T203000
DTSTAMP:20260423T185200
CREATED:20150410T071552Z
LAST-MODIFIED:20190523T074100Z
UID:340-1558638000-1558643400@www.cpkofc4620.org
SUMMARY:May Social Meeting
DESCRIPTION:Our May Social Meeting will be held Thursday\, May 23\, 2019 at brother Joe Martinez’s Joseph and Mary’s Stable at 5496 W 107th Ct. Crown Point\, IN. at 7:00 p.m. (near RT231 and Hanley St. west of the square.)
URL:https://www.cpkofc4620.org/event/may-social-meeting/
LOCATION:The Joseph and Mary’s Stable\, 5496 W 107th Ct.\, Crown Point\, IN\, 46307\, United States
CATEGORIES:Cardinal Stritch Council 4620,Social Meeting
END:VEVENT
BEGIN:VEVENT
DTSTART;TZID=UTC:20190228T190000
DTEND;TZID=UTC:20190228T210000
DTSTAMP:20260423T185200
CREATED:20170208T113014Z
LAST-MODIFIED:20190210T115841Z
UID:1025-1551380400-1551387600@www.cpkofc4620.org
SUMMARY:February Social Meeting
DESCRIPTION:The February social meeting will be held Thursday\, February 28\, 2019 in St. Agnes Center (next to St. Mary’s Church).
URL:https://www.cpkofc4620.org/event/february-social-meeting/
LOCATION:St. Agnes Center (next to St. Mary’s Church)\, Crown Point\, IN\, United States
CATEGORIES:Cardinal Stritch Council 4620,Social Meeting,St. Mary's
END:VEVENT
BEGIN:VEVENT
DTSTART;TZID=UTC:20181025T190000
DTEND;TZID=UTC:20181025T203000
DTSTAMP:20260423T185200
CREATED:20150817T063806Z
LAST-MODIFIED:20181017T074041Z
UID:592-1540494000-1540499400@www.cpkofc4620.org
SUMMARY:October Social Meeting - CANCELLED
DESCRIPTION:Our October Social Meeting for Thursday\, October 25\, 2018 at Joe Martinez’ Joseph and Mary Stable at 5496 W 107th Ct. Crown Point\, IN. at 7:00 p.m. (near RT231 and Hanley St. west of the square.) has been cancelled. \nFor more details contact Dave Stephenson at 718-4818.
URL:https://www.cpkofc4620.org/event/october-social-meeting/
LOCATION:The Joseph and Mary’s Stable\, 5496 W 107th Ct.\, Crown Point\, IN\, 46307\, United States
CATEGORIES:Social Meeting
END:VEVENT
BEGIN:VEVENT
DTSTART;TZID=UTC:20180927T190000
DTEND;TZID=UTC:20180927T210000
DTSTAMP:20260423T185200
CREATED:20140925T063857Z
LAST-MODIFIED:20180809T092102Z
UID:281-1538074800-1538082000@www.cpkofc4620.org
SUMMARY:September Social Meeting
DESCRIPTION:Our September Social Meeting will be at Chancellor Joe Martinez’ pole barn at 5496 W 107th Ct. Crown Point\, IN. at 7:00 p.m. (near RT231 and Hanley St. west of the square.)
URL:https://www.cpkofc4620.org/event/september-social-meeting/
LOCATION:The Joseph and Mary’s Stable\, 5496 W 107th Ct.\, Crown Point\, IN\, 46307\, United States
CATEGORIES:Social Meeting
END:VEVENT
BEGIN:VEVENT
DTSTART;TZID=UTC:20170928T190000
DTEND;TZID=UTC:20170928T210000
DTSTAMP:20260423T185200
CREATED:20150817T062609Z
LAST-MODIFIED:20170925T080525Z
UID:591-1506625200-1506632400@www.cpkofc4620.org
SUMMARY:September Social Meeting - CANCELLED
DESCRIPTION:THIS EVENT HAS BEEN CANCELLED \nOur September Social Meeting will be on September 28\, 2017 at Joe Martinez’ Joseph and Mary Stable at 5496 W 107th Ct. Crown Point\, IN. at 7:00 p.m. has been cancancelled due to the passing of Brother Art Loomis’ wake. \nBecause of this\, our schedule has been altered.  Thursday night’s Social Meeting has been cancelled. We are asking instead that all available Members of the Cardinal Stritch Council meet at Giesens on Thursday night at 6:15 pm for a show of solidarity and a rosary service in Art’s name.
URL:https://www.cpkofc4620.org/event/september-social-meeting-2017/
LOCATION:Geisen’s Funeral Home\, 606 E. 113th Ave.\, Crown Point\, 46307\, United States
CATEGORIES:Cardinal Stritch Council 4620,Social Meeting
END:VEVENT
BEGIN:VEVENT
DTSTART;TZID=UTC:20161027T190000
DTEND;TZID=UTC:20161027T210000
DTSTAMP:20260423T185200
CREATED:20160909T060539Z
LAST-MODIFIED:20160909T060539Z
UID:967-1477594800-1477602000@www.cpkofc4620.org
SUMMARY:Recruitment Dinner
DESCRIPTION:Knights of Columbus Cardinal Stritch Council 4620 is holding their recruitment dinner at the Crown Point Civic Center on Thursday\, October 27\, 2016. \nFor more information call Larry Biegel.
URL:https://www.cpkofc4620.org/event/recruitment-dinner/
LOCATION:Crown Point Civic Center\, 330 N. East St. \, Crown Point\, 46307\, United States
CATEGORIES:Cardinal Stritch Council 4620,Recruitment,Social Meeting
END:VEVENT
BEGIN:VEVENT
DTSTART;TZID=UTC:20141023T190000
DTEND;TZID=UTC:20141023T210000
DTSTAMP:20260423T185200
CREATED:20141020T055637Z
LAST-MODIFIED:20141020T055637Z
UID:294-1414090800-1414098000@www.cpkofc4620.org
SUMMARY:October Social Meeeting
DESCRIPTION:Our October Social Meeting will be at Lector Joe Martinez’ pole barn at 5496 W 107th Ct. Crown Point\, IN. at 7:00 p.m. (near RT231 and Hanley St. west of the square.)
URL:https://www.cpkofc4620.org/event/october-social-meeeting/
LOCATION:The Joseph and Mary’s Stable\, 5496 W 107th Ct.\, Crown Point\, IN\, 46307\, United States
CATEGORIES:Social Meeting
END:VEVENT
END:VCALENDAR