BEGIN:VCALENDAR
VERSION:2.0
PRODID:-//Cardinal Stritch Council #4620 - ECPv6.13.2.1//NONSGML v1.0//EN
CALSCALE:GREGORIAN
METHOD:PUBLISH
X-ORIGINAL-URL:https://www.cpkofc4620.org
X-WR-CALDESC:Events for Cardinal Stritch Council #4620
REFRESH-INTERVAL;VALUE=DURATION:PT1H
X-Robots-Tag:noindex
X-PUBLISHED-TTL:PT1H
BEGIN:VTIMEZONE
TZID:UTC
BEGIN:STANDARD
TZOFFSETFROM:+0000
TZOFFSETTO:+0000
TZNAME:UTC
DTSTART:20140101T000000
END:STANDARD
END:VTIMEZONE
BEGIN:VEVENT
DTSTART;TZID=UTC:20200329T090000
DTEND;TZID=UTC:20200329T170000
DTSTAMP:20260423T200335
CREATED:20181011T012218Z
LAST-MODIFIED:20200325T061022Z
UID:1497-1585472400-1585501200@www.cpkofc4620.org
SUMMARY:Final Second and Third Degree Exemplification - CANCELLED
DESCRIPTION:Due to the COVID-19 pandemic\, This event has been cancelled.\nLafayette Council 465 will host the last Formation (2nd) and Knighthood (3rd) Degree Exemplification of the old order on Sunday\, March 29th at 12:30PM ET.  The Council is located at 218 S 4th Street\, Lafayette\, IN. Candidate Registration: 11:30 AM – 12:15 PM ET. The Formation Degree will begin at 12:30 PM ET with 3rd Degree to follow. There will no admission after that as doors will be closed.   \nCandidates should arrive in St. Mary’s back parking lot no later than 9:30 AM to form a caravan. We should return to Crown Point by 5:00 CT. \nCandidates must present their current First or Second Degree membership card at registration. Other K of C members attending as guests must also present their current Third Degree membership cards for admittance. \nAttire is business casual.  \nA light reception will be served to the candidates and guests immediately following the ceremony. \nRemember: If you are a sponsor of a candidate you should bring him to the degree. \nPlease RSVP to DD#17 Dave Doran at 765-891-2671\, or district17@indianakofc.org so council can prepare for refreshments.
URL:https://www.cpkofc4620.org/event/second-and-third-degree-griffith/
LOCATION:Lafayette Council #456\, 218 S. 4th Street\, Lafayette\, IN\, 47901\, United States
CATEGORIES:Degree Exemplification
END:VEVENT
BEGIN:VEVENT
DTSTART;TZID=UTC:20190221T190000
DTEND;TZID=UTC:20190221T220000
DTSTAMP:20260423T200335
CREATED:20170210T053342Z
LAST-MODIFIED:20190210T114325Z
UID:341-1550775600-1550786400@www.cpkofc4620.org
SUMMARY:First Degree Exemplification - Griffith\, IN
DESCRIPTION:We have candidates receiving for their First Degree Exemplification atGriffith’s Father Marquette Council at 7:30 PM. We will meet in St. Mary’s back parking lot at 6:00 PM and travel to Griffith. \nFirst Degree Exemplifications will be held every third Thursday of the months of February\, May\, August and October. Griffith’s Father Marquette Council will host the ceremonies at 1400 S. Broad St. in Griffith\, IN. Degree time is 7:30PM. Candidates are to arrive no later than 7:00PM. \nCandidates must present their current First or Second Degree membership card. Other K of C members attending as guests must also present their current membership cards for admittance. Attire is business casual. Severe winter weather could cause a cancelation – if in doubt\, please call one of the contacts listed below. \nAfter the ceremony\, a light reception will be served immediately following the ceremony. \nRemember: If you are a sponsor of a candidate you should bring him to the degree.
URL:https://www.cpkofc4620.org/event/first-degree-exemplification-fr-marquette-council-may/
LOCATION:Father Marquette Council 3631\, 1400 S. Broad St.\, Griffith\, 46319
CATEGORIES:Admission (1st) Degree Exemplification,Degree Exemplification
END:VEVENT
BEGIN:VEVENT
DTSTART;TZID=UTC:20181120T173000
DTEND;TZID=UTC:20181120T210000
DTSTAMP:20260423T200335
CREATED:20150410T080354Z
LAST-MODIFIED:20181029T063706Z
UID:351-1542735000-1542747600@www.cpkofc4620.org
SUMMARY:Admission (1st) Degree Exemplification - Valparaiso\, IN
DESCRIPTION:An Admission (First) Degree Exemplification will be Tuesday\, November 20th and hosted by St. Paul Council 738 at St. Paul Church (in the Tiny Tim Child Development Center) in Valparaiso\, IN. Exemplification time is 7:30 p.m. Candidates are to arrive no later than 7:00PM. Our caravan will leave from St. Mary’s parking lot at 5:30 p.m. \nOther K of C members attending as guests must also present their current membership cards for admittance.  Remember if you are a sponsor of a candidate you should bring him to the degree.  \nRefreshments will be served afterwards. \nAttire is business casual.
URL:https://www.cpkofc4620.org/event/first-degree-exemplification-valparaiso-council-738-may/
LOCATION:St. Paul Church in the Tiny Tim Child Development Center (Basement)\, 1855 W Harrison Blvd.\, Valparaiso\, IN\, 46384\, United States
CATEGORIES:Admission (1st) Degree Exemplification,Degree Exemplification
ORGANIZER;CN="Mike Finley GK":MAILTO:michaelfinley@comcast.net
END:VEVENT
BEGIN:VEVENT
DTSTART;TZID=UTC:20180812T170000
DTEND;TZID=UTC:20180812T200000
DTSTAMP:20260423T200335
CREATED:20180809T090716Z
LAST-MODIFIED:20180809T090953Z
UID:1483-1534093200-1534104000@www.cpkofc4620.org
SUMMARY:Summer First and Second Degree Exemplifications at St. Michael's Church
DESCRIPTION:St. Michael the Archangel Council 12177 will host an Admission (First) and Formation (Second) Degree Exemplification on Sunday\, August 12th in Schererville\, IN. \nWe will meet at St. Mary’s Church parking lot at 4:15 p.m. Candidate Registration begins at 4:30 p.m. The Admission Degree will begin at 5:00 p.m. The Formation Degree will follow immediately. Candidates should arrive no later than 4:15 p.m. There will be no admission after 4:45 p.m. as doors will be closed. \nCandidates for the Second Degree must present their current First Degree membership card at registration. Other K of C members attending as guests must also present their current membership cards for admittance.  \nRemember if you are a sponsor of a candidate you should bring him to the degree.  \nRefreshments will be served afterwards. \nAttire is business casual.
URL:https://www.cpkofc4620.org/event/summer-first-and-second-degree-exemplifications-at-st-michaels-church/
LOCATION:St. Michael the Archangel Parish Hall\, 1 Wilhelm St.\, Schererville\, IN\, 46375\, United States
CATEGORIES:Degree Exemplification
ORGANIZER;CN="Gary Wolfe":MAILTO:garywwolfeAThotmail.com
END:VEVENT
BEGIN:VEVENT
DTSTART;TZID=UTC:20171028T083000
DTEND;TZID=UTC:20171028T140000
DTSTAMP:20260423T200335
CREATED:20170912T081051Z
LAST-MODIFIED:20170912T081051Z
UID:1168-1509179400-1509199200@www.cpkofc4620.org
SUMMARY:Fall Second and Third Degree Exemplification
DESCRIPTION:St. Michael the Archangel Council 12177 will host a Formation and Knighthood\nDegree Exemplification on Saturday\, October 28th in Schererville\, IN. \nWe will meet at St. Mary’s Church parking lot at 8:30 a.m. Candidate Registration begins at 9:00 am. The Formation Degree will begin at 10:00 am. The Knighthood Degree will follow immediately. Candidates should arrive no later than 9:15 am. There will be no admission after 9:45 am as doors will be closed. \nCandidates must present their current First Degree membership card at registration. Other K of C members attending as guests must also present their current membership cards for admittance.  \nRemember if you are a sponsor of a candidate you should bring him to the degree.  \nRefreshments will be served afterwards. \nAttire is business casual.
URL:https://www.cpkofc4620.org/event/fall-second-and-third-degree-exemplification/
LOCATION:St. Michael the Archangel Parish Hall\, 1 Wilhelm St.\, Schererville\, IN\, 46375\, United States
CATEGORIES:Cardinal Stritch Council 4620,Degree Exemplification
ORGANIZER;CN="DD#2 David Negrete":MAILTO:district2@indianakofc.org
END:VEVENT
BEGIN:VEVENT
DTSTART;TZID=UTC:20170806T090000
DTEND;TZID=UTC:20170806T180000
DTSTAMP:20260423T200335
CREATED:20170625T224029Z
LAST-MODIFIED:20170625T224029Z
UID:1114-1502010000-1502042400@www.cpkofc4620.org
SUMMARY:Summer Second and Third Degree Exemplification
DESCRIPTION:A Second and Third Degree Exemplification will be hosted by Angelo Roncalli Council 5584 on Sunday August 6\, 2017 Rochester\, IN 46975.  \nWe will meet at St. Mary’s Church parking lot at 9:00 a.m. \nCandidate Registration will begin at 11:30 am ET. Candidates should arrive no later than 12:15 pm ET. There will be no admission after 12:15 am ET as doors will be closed. The Formation Degree will begin at 12:30 pm ET. The Knighthood Degree will follow immediately. \nCandidates must present their current First Degree membership card at registration. Other K of C members attending as guests must also present their current membership cards for admittance.  \nRemember if you are a sponsor of a candidate you should bring him to the degree. Refreshments will be served afterwards. \nAttire is business casual.
URL:https://www.cpkofc4620.org/event/summer-second-and-third-degree-exemplification/
LOCATION:St. Joseph Catholic Church Hall\, 1310 Main St.\, Rochester\, IN\, 46975\, United States
CATEGORIES:Cardinal Stritch Council 4620,Degree Exemplification
END:VEVENT
BEGIN:VEVENT
DTSTART;TZID=UTC:20170305T140000
DTEND;TZID=UTC:20170305T190000
DTSTAMP:20260423T200335
CREATED:20140825T023202Z
LAST-MODIFIED:20181011T011358Z
UID:273-1488722400-1488740400@www.cpkofc4620.org
SUMMARY:Second and Third Degree Exemplification
DESCRIPTION:A Second and Third Degree Exemplification will be hosted by the Good Shepherd Council #10811 at Our Lady of Consolation Catholic Church\, 8303 Taft Street\, Merrillville\, IN on Sunday\, March 5th at 3:00 p.m. \nCandidate Registration begins at 2:00 p.m. CDT. Candidates should be registered no later than 2:30 p.m. \n2nd degree will begin at 3:00 p.m. There will be no admission after 2:50 p.m. as doors will be locked. The 3rd degree will follow immediately after. \nCandidates must present their current First Degree membership card at registration. Other K of C members attending as guests must also present their current membership cards for admittance.  \nIf you are a sponsor of a candidate you should bring him to the degree. \nRefreshments will be served afterwards. \nAttire is business casual.
URL:https://www.cpkofc4620.org/event/second-and-third-degree-oloc/
LOCATION:Our Lady of Consolation Catholic Church\, 8303 Taft Street\, Merrillville\, IN\, 46410\, United States
CATEGORIES:Degree Exemplification
ORGANIZER;CN="Jeff Gadbois":MAILTO:ceremonials@indianakofc.org
END:VEVENT
BEGIN:VEVENT
DTSTART;TZID=UTC:20170216T193000
DTEND;TZID=UTC:20170216T210000
DTSTAMP:20260423T200335
CREATED:20150410T075431Z
LAST-MODIFIED:20170208T113206Z
UID:348-1487273400-1487278800@www.cpkofc4620.org
SUMMARY:First Degree Exemplification -  Nativity of Our Savior Council 9114
DESCRIPTION:First Degree Ceremonies will be held every third Thursday of the even months of February\, May\, June\, August and October. Nativity of Our Savior Council 9114 of Portage\, IN will host the ceremonies at 2949 Willowcreek Rd. in Portage\, IN. Degree time is 7:30PM. Candidates are to arrive no later than 7:00PM.
URL:https://www.cpkofc4620.org/event/first-degree-exemplification-nativity-of-our-savior-council-9114-april/
LOCATION:Nativity of our Savior Hall\, 2949 Willowcreek Rd.\, Portage\, IN\, 46368\, United States
CATEGORIES:Degree Exemplification
END:VEVENT
BEGIN:VEVENT
DTSTART;TZID=UTC:20150518T190000
DTEND;TZID=UTC:20150518T210000
DTSTAMP:20260423T200335
CREATED:20150410T074337Z
LAST-MODIFIED:20150410T074408Z
UID:345-1431975600-1431982800@www.cpkofc4620.org
SUMMARY:First Degree Exemplification - Marion Council
DESCRIPTION:First Degree Exemplifications will be held every third Monday of every odd month (January\, March\, May\, July\, September and November). Cedar Lake’s Marion Council will host the ceremonies at 13039 Wicker Ave. in Cedar Lake. Exemplification time is 7:30PM. Candidates are to arrive no later than 7:00PM.
URL:https://www.cpkofc4620.org/event/first-degree-exemplification-marion-council-may/
LOCATION:Marian Council\, 13039 Wicker Ave.\, Cedar Lake\, IN\, 46303
CATEGORIES:Degree Exemplification
END:VEVENT
BEGIN:VEVENT
DTSTART;TZID=UTC:20150219T190000
DTEND;TZID=UTC:20150219T220000
DTSTAMP:20260423T200335
CREATED:20140616T051813Z
LAST-MODIFIED:20140616T053609Z
UID:123-1424372400-1424383200@www.cpkofc4620.org
SUMMARY:First Degree Ceremony
DESCRIPTION:First Degree Ceremonies will be held every third Thursday of the months of February\, May\, August and October. Griffith’s Father Marquette Council will host the ceremonies at 1400 S. Broad St. in Griffith\, IN. Degree time is 7:30PM. Candidates are to arrive no later than 7:00PM.
URL:https://www.cpkofc4620.org/event/first-degree-ceremony-2/
LOCATION:Father Marquette Council 3631\, 1400 S. Broad St.\, Griffith\, 46319
CATEGORIES:Degree Exemplification
END:VEVENT
BEGIN:VEVENT
DTSTART;TZID=UTC:20141016T190000
DTEND;TZID=UTC:20141016T220000
DTSTAMP:20260423T200335
CREATED:20140616T053425Z
LAST-MODIFIED:20140616T053502Z
UID:127-1413486000-1413496800@www.cpkofc4620.org
SUMMARY:First Degree Ceremony
DESCRIPTION:First Degree Ceremonies will be held every third Thursday of the months of February\, May\, August and October. Griffith’s Father Marquette Council will host the ceremonies at 1400 S. Broad St. in Griffith\, IN. Degree time is 7:30PM. Candidates are to arrive no later than 7:00PM.
URL:https://www.cpkofc4620.org/event/first-degree-ceremony-3/
LOCATION:Father Marquette Council 3631\, 1400 S. Broad St.\, Griffith\, 46319
CATEGORIES:Degree Exemplification
END:VEVENT
BEGIN:VEVENT
DTSTART;TZID=UTC:20140914T070000
DTEND;TZID=UTC:20140914T110000
DTSTAMP:20260423T200335
CREATED:20140616T043955Z
LAST-MODIFIED:20140616T043955Z
UID:113-1410678000-1410692400@www.cpkofc4620.org
SUMMARY:4th Degree Exemplification
DESCRIPTION:FOURTH DEGREE MEMBERSHIP APPLICATION:\nMembership Applications (Form 4) may be obtained from any Assembly\, Council or the\nMaster of the Indiana District. An application must be completed in full and signed by the\nfollowing: Candidate\, Proposer\, Faithful Navigator\, Faithful Comptroller and the Council\nFinancial Secretary. Failure to obtain all necessary signatures will delay the processing of\nthe application. IMPORTANT: The application Form 4 (all copies of Form 4) should be\nattached to the completed reservation form provided\, along with a check payable to:\nCharles Whitcraft. In the memo Master Indiana District and send to: \nNorman Stoffel\, PSD\nSecretary – Indiana District\n1121 North LaFontaine\nHuntington\, IN 46750-1817 \nDeadline for submitting application/registration is September 1\, 2014\nPLEASE NOTE: NO REFUNDS WILL BE MADE AFTER THIS DATE \nReservation forms should be submitted by every Candidate or Sir Knight attending this\nExemplification. This will help us to adequately plan all the functions for the weekend. A\nreservation form is attached to this notice. Please reproduce additional copies if needed. \nEXEMPLIFICATION FEE:\nThe fee\, set by the Supreme Council\, for Fourth Degree Candidates is $70.00. This fee includes the following: a social baldric\, lapel pin and one dinner ticket. The fee for members of the Clergy is $25.00. It is suggested that local assemblies assume the cost for their clergy members. This fee does not include the yearly dues payable to your Assembly.
URL:https://www.cpkofc4620.org/event/4th-degree-exemplification-2/
LOCATION:Radisson Hotel at Star Plaza\, 800 E. 81st Avenue\, Merrillville\, IN\, 46410\, United States
CATEGORIES:Degree Exemplification
END:VEVENT
BEGIN:VEVENT
DTSTART;TZID=UTC:20140913T120000
DTEND;TZID=UTC:20140913T220000
DTSTAMP:20260423T200335
CREATED:20140616T024316Z
LAST-MODIFIED:20140616T044421Z
UID:110-1410609600-1410645600@www.cpkofc4620.org
SUMMARY:4th Degree Exemplification
DESCRIPTION:FOURTH DEGREE MEMBERSHIP APPLICATION:\nMembership Applications (Form 4) may be obtained from any Assembly\, Council or the\nMaster of the Indiana District. An application must be completed in full and signed by the\nfollowing: Candidate\, Proposer\, Faithful Navigator\, Faithful Comptroller and the Council\nFinancial Secretary. Failure to obtain all necessary signatures will delay the processing of\nthe application. IMPORTANT: The application Form 4 (all copies of Form 4) should be\nattached to the completed reservation form provided\, along with a check payable to:\nCharles Whitcraft. In the memo Master Indiana District and send to: \nNorman Stoffel\, PSD\nSecretary – Indiana District\n1121 North LaFontaine\nHuntington\, IN 46750-1817 \nDeadline for submitting application/registration is September 1\, 2014\nPLEASE NOTE: NO REFUNDS WILL BE MADE AFTER THIS DATE \nReservation forms should be submitted by every Candidate or Sir Knight attending this\nExemplification. This will help us to adequately plan all the functions for the weekend. A\nreservation form is attached to this notice. Please reproduce additional copies if needed. \nEXEMPLIFICATION FEE:\nThe fee\, set by the Supreme Council\, for Fourth Degree Candidates is $70.00. This fee includes the following: a social baldric\, lapel pin and one dinner ticket. The fee for members of the Clergy is $25.00. It is suggested that local assemblies assume the cost for their clergy members. This fee does not include the yearly dues payable to your Assembly.
URL:https://www.cpkofc4620.org/event/4th-degree-exemplification/
LOCATION:Radisson Hotel at Star Plaza\, 800 E. 81st Avenue\, Merrillville\, IN\, 46410\, United States
CATEGORIES:Degree Exemplification
END:VEVENT
BEGIN:VEVENT
DTSTART;TZID=UTC:20140821T190000
DTEND;TZID=UTC:20140821T220000
DTSTAMP:20260423T200335
CREATED:20140616T051619Z
LAST-MODIFIED:20140616T053148Z
UID:120-1408647600-1408658400@www.cpkofc4620.org
SUMMARY:First Degree Ceremony
DESCRIPTION:First Degree Ceremonies will be held every third Thursday of the months of February\, May\, August and October. Griffith’s Father Marquette Council will host the ceremonies at 1400 S. Broad St. in Griffith\, IN. Degree time is 7:30PM. Candidates are to arrive no later than 7:00PM.
URL:https://www.cpkofc4620.org/event/first-degree-ceremony/
LOCATION:Father Marquette Council 3631\, 1400 S. Broad St.\, Griffith\, 46319
CATEGORIES:Degree Exemplification
END:VEVENT
END:VCALENDAR