BEGIN:VCALENDAR
VERSION:2.0
PRODID:-//Cardinal Stritch Council #4620 - ECPv6.13.2.1//NONSGML v1.0//EN
CALSCALE:GREGORIAN
METHOD:PUBLISH
X-ORIGINAL-URL:https://www.cpkofc4620.org
X-WR-CALDESC:Events for Cardinal Stritch Council #4620
REFRESH-INTERVAL;VALUE=DURATION:PT1H
X-Robots-Tag:noindex
X-PUBLISHED-TTL:PT1H
BEGIN:VTIMEZONE
TZID:America/Chicago
BEGIN:DAYLIGHT
TZOFFSETFROM:-0600
TZOFFSETTO:-0500
TZNAME:CDT
DTSTART:20240310T080000
END:DAYLIGHT
BEGIN:STANDARD
TZOFFSETFROM:-0500
TZOFFSETTO:-0600
TZNAME:CST
DTSTART:20241103T070000
END:STANDARD
END:VTIMEZONE
BEGIN:VEVENT
DTSTART;TZID=America/Chicago:20240211T130000
DTEND;TZID=America/Chicago:20240211T160000
DTSTAMP:20260425T102942
CREATED:20240211T042106Z
LAST-MODIFIED:20240211T042304Z
UID:2791-1707656400-1707667200@www.cpkofc4620.org
SUMMARY:Vince Columbo's Arrangements
DESCRIPTION:The funeral arrangements for brother Vince Columbo are as follows: \nThe wake will be Sunday\, February 11\, 2024 at Geisen Funeral\, Cremation & Reception Centre\, 606 E. 113th Ave. in Crown Point\, IN 46307 from 1:00 PM to 4:00 PM. We are asking instead that all available Members of the Cardinal Stritch Council meet at Giesens on Sunday afternoon at 3:15 pm for a show of solidarity and a rosary service in Vince’s name. \nPrayers will be held at the Funeral Home at 9:15 AM on Monday\, February 12\, 2024. Funeral Services will be at 10:00 AM on Monday at St. Matthias Catholic Church\, 101 W Burrell Dr.\, with Fr. Kevin Huber officiating. \nInterment to follow funeral services at St. Mary Catholic Cemetery. \n Please remember Vince and his family in your prayers.
URL:https://www.cpkofc4620.org/event/vince-columbos-funeral-arrangements/
LOCATION:Geisen’s Funeral Home\, 606 E. 113th Ave.\, Crown Point\, 46307\, United States
CATEGORIES:Funeral Service
ATTACH;FMTTYPE=image/jpeg:https://www.cpkofc4620.org/wp-content/uploads/2024/02/VinceJColumbo.jpg
END:VEVENT
BEGIN:VEVENT
DTSTART;TZID=America/Chicago:20240212T100000
DTEND;TZID=America/Chicago:20240212T120000
DTSTAMP:20260425T102942
CREATED:20240211T042713Z
LAST-MODIFIED:20240211T042713Z
UID:2794-1707732000-1707739200@www.cpkofc4620.org
SUMMARY:Vince Columbo's Funeral
DESCRIPTION:Prayers  for brother Vince Columbo will be held at Geisen Funeral Home at 9:15 AM on Monday\, February 12\, 2024. Funeral Services will be at 10:00 AM on Monday at St. Matthias Catholic Church\, 101 W Burrell Dr.\, with Fr. Kevin Huber officiating. Interment to follow funeral services at St. Mary Catholic Cemetery.
URL:https://www.cpkofc4620.org/event/vince-columbos-funeral/
LOCATION:Geisen’s Funeral Home\, 606 E. 113th Ave.\, Crown Point\, 46307\, United States
CATEGORIES:Funeral Service
ATTACH;FMTTYPE=image/jpeg:https://www.cpkofc4620.org/wp-content/uploads/2024/02/VinceJColumbo.jpg
END:VEVENT
END:VCALENDAR