BEGIN:VCALENDAR
VERSION:2.0
PRODID:-//Cardinal Stritch Council #4620 - ECPv6.13.2.1//NONSGML v1.0//EN
CALSCALE:GREGORIAN
METHOD:PUBLISH
X-ORIGINAL-URL:https://www.cpkofc4620.org
X-WR-CALDESC:Events for Cardinal Stritch Council #4620
REFRESH-INTERVAL;VALUE=DURATION:PT1H
X-Robots-Tag:noindex
X-PUBLISHED-TTL:PT1H
BEGIN:VTIMEZONE
TZID:America/Chicago
BEGIN:DAYLIGHT
TZOFFSETFROM:-0600
TZOFFSETTO:-0500
TZNAME:CDT
DTSTART:20240310T080000
END:DAYLIGHT
BEGIN:STANDARD
TZOFFSETFROM:-0500
TZOFFSETTO:-0600
TZNAME:CST
DTSTART:20241103T070000
END:STANDARD
END:VTIMEZONE
BEGIN:VEVENT
DTSTART;TZID=America/Chicago:20240911T110000
DTEND;TZID=America/Chicago:20240911T150000
DTSTAMP:20260424T215201
CREATED:20240911T005355Z
LAST-MODIFIED:20240911T005355Z
UID:3032-1726052400-1726066800@www.cpkofc4620.org
SUMMARY:Tom Cashmer's Funeral and Visitation
DESCRIPTION:A Mass of Christian Burial for our Brother Tom Cashmer will be held on Wednesday\, September 11th at 11:00 am at St. Matthias Catholic Church Parish\, followed by the visitation at Burns Funeral Home & Crematory\, 10101 Broadway\, Crown Point\, from 1:00 pm to 3:00 pm.  \nThe Family has requested a Knight’s service for Wednesday afternoon at 2:00 pm.  \nThe private internment will be Thursday.  \nFor more information call brother Dave Stephenson at 219-718-4818.
URL:https://www.cpkofc4620.org/event/tom-cashmers-funeral-and-visitation/
LOCATION:St. Matthias Roman Catholic Church\, 101 W. Burrell Drive\, Crown Point\, 46307\, United States
CATEGORIES:Cardinal Stritch Council 4620,Funeral Service
ATTACH;FMTTYPE=image/webp:https://www.cpkofc4620.org/wp-content/uploads/2024/09/Thomas-Cashmer.webp
END:VEVENT
END:VCALENDAR