BEGIN:VCALENDAR
VERSION:2.0
PRODID:-//Cardinal Stritch Council #4620 - ECPv6.13.2.1//NONSGML v1.0//EN
CALSCALE:GREGORIAN
METHOD:PUBLISH
X-WR-CALNAME:Cardinal Stritch Council #4620
X-ORIGINAL-URL:https://www.cpkofc4620.org
X-WR-CALDESC:Events for Cardinal Stritch Council #4620
REFRESH-INTERVAL;VALUE=DURATION:PT1H
X-Robots-Tag:noindex
X-PUBLISHED-TTL:PT1H
BEGIN:VTIMEZONE
TZID:UTC
BEGIN:STANDARD
TZOFFSETFROM:+0000
TZOFFSETTO:+0000
TZNAME:UTC
DTSTART:20160101T000000
END:STANDARD
END:VTIMEZONE
BEGIN:VEVENT
DTSTART;TZID=UTC:20161014T120000
DTEND;TZID=UTC:20161014T190000
DTSTAMP:20260423T223755
CREATED:20160921T234907Z
LAST-MODIFIED:20160921T235108Z
UID:977-1476446400-1476471600@www.cpkofc4620.org
SUMMARY:2016 Goldie Memorial Golf Scramble (Gibault Golf Scramble)
DESCRIPTION:The annual golf scramble is being held to benefit the children at Gibault.  It is Friday October 14\, 2016 at Hidden Valley Golf Club\, 19775 Alpine Drive in Lawrenceburg\, IN. Registration is 12:00 Noon with a 1:00 tee off. Dinner and awards presentation immediately following Golf Scramble. \nThe entry fee is $100.00 per golfer\, which includes: greens fee\, cart\, 2 drink tickets and dinner. All proceeds to benefit the Knights of Columbus #1 Charity\, Gibault School. \nComplete and send the registration form in this  2016 Goldie Memorial Registration brochure.
URL:https://www.cpkofc4620.org/event/2016-goldie-memorial-golf-scramble-gibault-golf-scramble/
LOCATION:Hidden Valley Golf Club\, 19775 Alpine Drive\, Lawrenceburg\, IN\, 47025\, United States
CATEGORIES:Gibault,Golf Outing
ATTACH;FMTTYPE=image/jpeg:https://www.cpkofc4620.org/wp-content/uploads/2016/09/HVGC.jpg
END:VEVENT
END:VCALENDAR