BEGIN:VCALENDAR
VERSION:2.0
PRODID:-//Cardinal Stritch Council #4620 - ECPv6.13.2.1//NONSGML v1.0//EN
CALSCALE:GREGORIAN
METHOD:PUBLISH
X-ORIGINAL-URL:https://www.cpkofc4620.org
X-WR-CALDESC:Events for Cardinal Stritch Council #4620
REFRESH-INTERVAL;VALUE=DURATION:PT1H
X-Robots-Tag:noindex
X-PUBLISHED-TTL:PT1H
BEGIN:VTIMEZONE
TZID:America/Chicago
BEGIN:DAYLIGHT
TZOFFSETFROM:-0600
TZOFFSETTO:-0500
TZNAME:CDT
DTSTART:20240310T080000
END:DAYLIGHT
BEGIN:STANDARD
TZOFFSETFROM:-0500
TZOFFSETTO:-0600
TZNAME:CST
DTSTART:20241103T070000
END:STANDARD
BEGIN:DAYLIGHT
TZOFFSETFROM:-0600
TZOFFSETTO:-0500
TZNAME:CDT
DTSTART:20250309T080000
END:DAYLIGHT
BEGIN:STANDARD
TZOFFSETFROM:-0500
TZOFFSETTO:-0600
TZNAME:CST
DTSTART:20251102T070000
END:STANDARD
END:VTIMEZONE
BEGIN:VTIMEZONE
TZID:UTC
BEGIN:STANDARD
TZOFFSETFROM:+0000
TZOFFSETTO:+0000
TZNAME:UTC
DTSTART:20150101T000000
END:STANDARD
END:VTIMEZONE
BEGIN:VEVENT
DTSTART;VALUE=DATE:20251225
DTEND;VALUE=DATE:20251226
DTSTAMP:20260423T184339
CREATED:20221017T073819Z
LAST-MODIFIED:20251209T212330Z
UID:604-1766620800-1766707199@www.cpkofc4620.org
SUMMARY:Christmas Day
DESCRIPTION:I want to wish the Cardinal Stritch Council #4620 family a glorious and blessed Christmas Season.
URL:https://www.cpkofc4620.org/event/christmas-day/
CATEGORIES:Holiday,Holy Day of Obligation
ATTACH;FMTTYPE=image/jpeg:https://www.cpkofc4620.org/wp-content/uploads/2015/08/nativity1800.jpg
END:VEVENT
BEGIN:VEVENT
DTSTART;TZID=America/Chicago:20251213T180000
DTEND;TZID=America/Chicago:20251213T213000
DTSTAMP:20260423T184339
CREATED:20211113T232121Z
LAST-MODIFIED:20251104T225851Z
UID:278-1765648800-1765661400@www.cpkofc4620.org
SUMMARY:Knights of Columbus Christmas Party
DESCRIPTION:Our Knights Christmas party for Knights and guest will be Saturday\, December 13th at Youche Country Club.  \nSocializing begins at 6:00 p.m. Dinner begins at 6:30 p.m. \nThe meal will be a buffet dinner. The cost is $30 a plate. \nBuffet dinner menu includes three meats along with the usual side dishes; dessert will be peppermint ice cream. Soft drinks\, coffee and tea are provided. \nPlease RSVP with Grand Knight Dave Stephenson at (219) 718-4818 or Jim Landers at (219) 313-5744 before December 6th. No reservations will be accepted after that day.
URL:https://www.cpkofc4620.org/event/knights-of-columbus-christmas-party/
LOCATION:Youche Country Club\, 2301 W 129th Pl.\, Crown Point\, IN\, 46307\, United States
CATEGORIES:Cardinal Stritch Council 4620,Holiday
ATTACH;FMTTYPE=image/jpeg:https://www.cpkofc4620.org/wp-content/uploads/2014/09/Christmas-party.jpg
END:VEVENT
BEGIN:VEVENT
DTSTART;TZID=America/Chicago:20251206T110000
DTEND;TZID=America/Chicago:20251206T130000
DTSTAMP:20260423T184339
CREATED:20140925T074433Z
LAST-MODIFIED:20251104T230239Z
UID:288-1765018800-1765026000@www.cpkofc4620.org
SUMMARY:Cardinal Stritch Council #4620's Children's Christmas Party
DESCRIPTION:December is a hard month for little children. The anticipation of Santa’s visit on Christmas can be hard on the whole family. A celebration that is just for the kids with food\, games\, prizes\, desserts and even a visit from Santa should take the edge off the holiday craziness. \nThe Knights of Council #4620 are invited to bring their children\, grandchildren\, great-grandchildren\, nieces and nephews\, to the annual Children’s Christmas Party from 11:00 p.m. to 1:00 p.m. for some holiday fun  on Saturday\, December 6th in St. Mary’s  Hammes Hall. \nChildren ages 10 and under will receive a present from Santa. Children older than 10 are invited to have treats. \nTo reserve your family’s place at the biggest party of the year\, contact Grand Knight Dave Stephenson at the number below with the names and ages of your little ones as well as any adults that will be coming. \nIf you would like to help the party run smoothly\, call Dave. All the help would be appreciated!
URL:https://www.cpkofc4620.org/event/cardinal-stritch-council-4620s-childrens-christmas-party/
LOCATION:St. Mary’s Hammes Hall\, 321 East Joliet Street\, Crown Point\, 46307
CATEGORIES:Cardinal Stritch Council 4620,Family Event,Holiday,On The Square Sports Academy,Youth Committe Event
END:VEVENT
BEGIN:VEVENT
DTSTART;VALUE=DATE:20250420
DTEND;VALUE=DATE:20250421
DTSTAMP:20260423T184339
CREATED:20190210T083332Z
LAST-MODIFIED:20250305T003229Z
UID:601-1745107200-1745193599@www.cpkofc4620.org
SUMMARY:Easter Sunday
DESCRIPTION:ST. MARY’S EASTER MASS SCHEDULE\nSaturday\, April 19th: Easter Vigil Mass   7:30 pm\nSunday\, April 20th: Easter Sunday Masses   7:30 am; 9:30 am; 11:30 am
URL:https://www.cpkofc4620.org/event/easter-sunday/
LOCATION:St. Mary Catholic Church\, 321 E Joliet St\, Crown Point\, IN\, 46307\, United States
CATEGORIES:Holiday,Holy Day of Obligation,St. Mary's,St. Matthias
END:VEVENT
BEGIN:VEVENT
DTSTART;VALUE=DATE:20250101
DTEND;VALUE=DATE:20250102
DTSTAMP:20260423T184339
CREATED:20150817T072454Z
LAST-MODIFIED:20241108T033459Z
UID:598-1735689600-1735775999@www.cpkofc4620.org
SUMMARY:New Year's Day
DESCRIPTION:
URL:https://www.cpkofc4620.org/event/new-years-day/
CATEGORIES:Holiday
END:VEVENT
BEGIN:VEVENT
DTSTART;VALUE=DATE:20241128
DTEND;VALUE=DATE:20241129
DTSTAMP:20260423T184339
CREATED:20221017T064403Z
LAST-MODIFIED:20241108T033241Z
UID:593-1732752000-1732838399@www.cpkofc4620.org
SUMMARY:Thanksgiving Day
DESCRIPTION:Have a blessed Thanksgiving holiday.
URL:https://www.cpkofc4620.org/event/thanksgiving/
CATEGORIES:Cardinal Stritch Council 4620,Holiday
ATTACH;FMTTYPE=image/jpeg:https://www.cpkofc4620.org/wp-content/uploads/2015/08/ThanksgivingDinner1800.jpg
END:VEVENT
BEGIN:VEVENT
DTSTART;VALUE=DATE:20190414
DTEND;VALUE=DATE:20190415
DTSTAMP:20260423T184339
CREATED:20190210T084551Z
LAST-MODIFIED:20190210T122411Z
UID:1393-1555200000-1555286399@www.cpkofc4620.org
SUMMARY:Palm Sunday
DESCRIPTION:ST. MARY’S PALM SUNDAY MASS SCHEDULE\nSaturday\, March 24th: Passion Sunday Mass   5:30 pm\nSunday\, March 25 th: Passion Sunday Masses   7:30 am; 9:00 am; 10:30 am; 12:00 pm
URL:https://www.cpkofc4620.org/event/palm-sunday/
LOCATION:St. Mary Catholic Church\, 321 E Joliet St\, Crown Point\, IN\, 46307\, United States
CATEGORIES:Holiday,Holy Day of Obligation,St. Mary's,St. Matthias
END:VEVENT
BEGIN:VEVENT
DTSTART;TZID=UTC:20180329T170000
DTEND;TZID=UTC:20180329T235900
DTSTAMP:20260423T184339
CREATED:20150817T073212Z
LAST-MODIFIED:20180125T085743Z
UID:600-1522342800-1522367940@www.cpkofc4620.org
SUMMARY:Ascension (Holy) Thursday
DESCRIPTION:The Feast of the Ascension of Our Lord and Savior Jesus Christ\, also known as Ascension Thursday\, Holy Thursday\, or Ascension Day\, is traditionally celebrated on a Thursday\, the fortieth day of Easter (following the count given in Acts 1:3).
URL:https://www.cpkofc4620.org/event/ascension-holy-thursday/
CATEGORIES:Holiday,Holy Day of Obligation,St. Mary's,St. Matthias
END:VEVENT
BEGIN:VEVENT
DTSTART;VALUE=DATE:20151012
DTEND;VALUE=DATE:20151013
DTSTAMP:20260423T184339
CREATED:20150817T072238Z
LAST-MODIFIED:20150817T072238Z
UID:597-1444608000-1444694399@www.cpkofc4620.org
SUMMARY:Columbus Day
DESCRIPTION:
URL:https://www.cpkofc4620.org/event/columbus-day/
CATEGORIES:Holiday
END:VEVENT
END:VCALENDAR