BEGIN:VCALENDAR
VERSION:2.0
PRODID:-//Cardinal Stritch Council #4620 - ECPv6.13.2.1//NONSGML v1.0//EN
CALSCALE:GREGORIAN
METHOD:PUBLISH
X-ORIGINAL-URL:https://www.cpkofc4620.org
X-WR-CALDESC:Events for Cardinal Stritch Council #4620
REFRESH-INTERVAL;VALUE=DURATION:PT1H
X-Robots-Tag:noindex
X-PUBLISHED-TTL:PT1H
BEGIN:VTIMEZONE
TZID:UTC
BEGIN:STANDARD
TZOFFSETFROM:+0000
TZOFFSETTO:+0000
TZNAME:UTC
DTSTART:20150101T000000
END:STANDARD
END:VTIMEZONE
BEGIN:VEVENT
DTSTART;TZID=UTC:20181026T163000
DTEND;TZID=UTC:20181026T190000
DTSTAMP:20260423T185349
CREATED:20180809T042344Z
LAST-MODIFIED:20180809T092518Z
UID:627-1540571400-1540580400@www.cpkofc4620.org
SUMMARY:Chili Dinner
DESCRIPTION:The Cardinal Stritch Knights of Columbus Council #4620 is hosting a Chili Dinner fundraiser on Friday\, October 26th from 4:30 to 7:00 P.M. at Hammes Hall located on the St. Mary’s Campus at 321 E. Joliet\, Crown Point\, IN. \nIt is an all you can eat chili dinner that includes corn bread\, crackers\, desert and drink for $8.  An all you can eat hot dog dinner will be offered for children that includes chips\, desert and drink for $4.  For advance tickets call Dave Stephenson at (219) 718-4818 or tickets can be purchased at the door.
URL:https://www.cpkofc4620.org/event/chili-dinner/
LOCATION:St. Mary’s Hammes Hall\, 321 East Joliet Street\, Crown Point\, 46307
CATEGORIES:Dinner,Fundraiser,St. Mary's,St. Mary's School
ATTACH;FMTTYPE=image/png:https://www.cpkofc4620.org/wp-content/uploads/2015/09/bowl-of-chili-e1442293805618.png
END:VEVENT
BEGIN:VEVENT
DTSTART;TZID=UTC:20151002T080000
DTEND;TZID=UTC:20151002T120000
DTSTAMP:20260423T185349
CREATED:20150924T082715Z
LAST-MODIFIED:20150924T083154Z
UID:636-1443772800-1443787200@www.cpkofc4620.org
SUMMARY:St. Mary's Teacher Appreciation Walk
DESCRIPTION:On the morning of Friday\, October 2\, 2015\, students at St. Mary Catholic School will show their appreciation for their teachers by participating in this event to raise funds for our teachers who dedicate their lives to educating children at great personal sacrifice. They forgo higher salaries that could be earned elsewhere in order to teach where the feel “called” to teach. Over the coming weeks\, students and our parishioners will be given opportunities to participate in the fund raising. Family members and friends are now able to make their donations by accessing the web site link. \nSeveral Knights will be serving as monitors for this event. \nBrother Bill Gates is serving as c0-ordinator for this event.
URL:https://www.cpkofc4620.org/event/st-marys-teacher-appreciation-walk/
LOCATION:St. Mary Catholic Community School\, 405 E. Joliet St.\, Crown Point\, IN\, 46307\, United States
CATEGORIES:St. Mary's,St. Mary's School
END:VEVENT
END:VCALENDAR