BEGIN:VCALENDAR
VERSION:2.0
PRODID:-//Cardinal Stritch Council #4620 - ECPv6.13.2.1//NONSGML v1.0//EN
CALSCALE:GREGORIAN
METHOD:PUBLISH
X-WR-CALNAME:Cardinal Stritch Council #4620
X-ORIGINAL-URL:https://www.cpkofc4620.org
X-WR-CALDESC:Events for Cardinal Stritch Council #4620
REFRESH-INTERVAL;VALUE=DURATION:PT1H
X-Robots-Tag:noindex
X-PUBLISHED-TTL:PT1H
BEGIN:VTIMEZONE
TZID:America/Chicago
BEGIN:DAYLIGHT
TZOFFSETFROM:-0600
TZOFFSETTO:-0500
TZNAME:CDT
DTSTART:20250309T080000
END:DAYLIGHT
BEGIN:STANDARD
TZOFFSETFROM:-0500
TZOFFSETTO:-0600
TZNAME:CST
DTSTART:20251102T070000
END:STANDARD
END:VTIMEZONE
BEGIN:VEVENT
DTSTART;TZID=America/Chicago:20250504T140000
DTEND;TZID=America/Chicago:20250504T163000
DTSTAMP:20260423T200401
CREATED:20220413T063842Z
LAST-MODIFIED:20250430T000141Z
UID:2061-1746367200-1746376200@www.cpkofc4620.org
SUMMARY:The May Crowning of the Blessed Virgin Mary
DESCRIPTION:The annual May Crowning of Blessed Virgin Mary\, the Patron of our parish\, will be held on Sunday\, May 4th at 2:00 p.m. in St. Mary Church.\n \nThe Knights of the Cardinal Stritch Council 4620 have been asked to serve coffee\, lemonade and water at the reception hosted by the Altar and Rosary Club afterwards in St. Agnes Center. \nPlease invite your spouses\, children\, relatives\, and friends to join you for this joyful celebration!
URL:https://www.cpkofc4620.org/event/the-may-crowning-of-the-blessed-virgin-mary/
LOCATION:St. Mary Catholic Church\, 321 E Joliet St\, Crown Point\, IN\, 46307\, United States
CATEGORIES:Alter and Rosary Society,Cardinal Stritch Council 4620,The May Crowning
ATTACH;FMTTYPE=image/jpeg:https://www.cpkofc4620.org/wp-content/uploads/2022/04/May-Crowning.jpg
ORGANIZER;CN="Mardee Saad":MAILTO:mardee.saad@sbcglobal.net
END:VEVENT
BEGIN:VEVENT
DTSTART;TZID=America/Chicago:20250413T090000
DTEND;TZID=America/Chicago:20250413T103000
DTSTAMP:20260423T200401
CREATED:20250311T205205Z
LAST-MODIFIED:20250311T224712Z
UID:3224-1744534800-1744540200@www.cpkofc4620.org
SUMMARY:Corporate Communion (Re-Opening of St. Mary Church)
DESCRIPTION:Father Peter Muha has designated the our church will reopen for masses on the weekend of Palm Sunday\, April 13\, 2025.  \nBeing that this is the second Sunday of the month\, our monthly Corporate Communion\, I am asking every available brother to make arrangements to join us with his family at the 9:30 mass. Our council should have a huge presence in the celebration. Please make plans to wear your Knights apparel.  \nFor more information on all these events\, please contact the Grand Knight at (219) 718-4818.
URL:https://www.cpkofc4620.org/event/re-opening-of-st-mary-church/
LOCATION:St. Mary Catholic Church\, 321 E Joliet St\, Crown Point\, IN\, 46307\, United States
CATEGORIES:Cardinal Stritch Council 4620,Corporate Communion,Donuts & Coffee,Eucharistic Procession,Family Advent Day,Family Lenten Day,Monthly Meeting,Outdoor Mass,The May Crowning
ATTACH;FMTTYPE=image/jpeg:https://www.cpkofc4620.org/wp-content/uploads/2021/12/communion_header-e1638468454154.jpg
END:VEVENT
END:VCALENDAR