BEGIN:VCALENDAR
VERSION:2.0
PRODID:-//Cardinal Stritch Council #4620 - ECPv6.13.2.1//NONSGML v1.0//EN
CALSCALE:GREGORIAN
METHOD:PUBLISH
X-WR-CALNAME:Cardinal Stritch Council #4620
X-ORIGINAL-URL:https://www.cpkofc4620.org
X-WR-CALDESC:Events for Cardinal Stritch Council #4620
REFRESH-INTERVAL;VALUE=DURATION:PT1H
X-Robots-Tag:noindex
X-PUBLISHED-TTL:PT1H
BEGIN:VTIMEZONE
TZID:America/Chicago
BEGIN:DAYLIGHT
TZOFFSETFROM:-0600
TZOFFSETTO:-0500
TZNAME:CDT
DTSTART:20250309T080000
END:DAYLIGHT
BEGIN:STANDARD
TZOFFSETFROM:-0500
TZOFFSETTO:-0600
TZNAME:CST
DTSTART:20251102T070000
END:STANDARD
BEGIN:DAYLIGHT
TZOFFSETFROM:-0600
TZOFFSETTO:-0500
TZNAME:CDT
DTSTART:20260308T080000
END:DAYLIGHT
BEGIN:STANDARD
TZOFFSETFROM:-0500
TZOFFSETTO:-0600
TZNAME:CST
DTSTART:20261101T070000
END:STANDARD
END:VTIMEZONE
BEGIN:VEVENT
DTSTART;TZID=America/Chicago:20260502T083000
DTEND;TZID=America/Chicago:20260502T120000
DTSTAMP:20260423T142450
CREATED:20220412T002359Z
LAST-MODIFIED:20260317T213752Z
UID:871-1777710600-1777723200@www.cpkofc4620.org
SUMMARY:Tootsie Roll Drive
DESCRIPTION:IT’S TOOTSIE ROLL DAY!!!\nOur annual fundraiser to benefit individuals with disabilities in the Crown Point area is Saturday\, May 2nd. We are starting out at 8:30 a.m. in  Larry Biegel’s garage to have a little breakfast\, to get our assignments and pick up our Tootsie Rolls.  \nWe have from 9:00 a.m. to 12:00 p.m. allotted to us by the city. \nThe more Knights we have on the streets\, the more money we collect so come out and join us!
URL:https://www.cpkofc4620.org/event/tootsie-roll-drive/
LOCATION:Larry Biegel’s Garage\, 311 E. Joliet St.\, Crown Point\, 46307\, United States
CATEGORIES:Fundraiser,Tootsie Roll Drive
ATTACH;FMTTYPE=image/jpeg:https://www.cpkofc4620.org/wp-content/uploads/2016/04/tootsieroll.jpg
END:VEVENT
BEGIN:VEVENT
DTSTART;TZID=America/Chicago:20260409T183000
DTEND;TZID=America/Chicago:20260409T203000
DTSTAMP:20260423T142450
CREATED:20221209T151435Z
LAST-MODIFIED:20260106T234407Z
UID:862-1775759400-1775766600@www.cpkofc4620.org
SUMMARY:April Knights of Columbus Meeting
DESCRIPTION:The Cardinal Stritch Council 4620 meets the second Thursday of each month. We will meet in St. Mary’s Hammes Hall at 6:30 p.m.  \nAfter the meeting\, there will be dinner and fellowship.  Please plan on attending! \nIf you have any questions\, contact the Grand Knight at (219) 718-4818.
URL:https://www.cpkofc4620.org/event/april-knights-of-columbus-meeting/
LOCATION:St. Mary’s Hammes Hall\, 321 East Joliet Street\, Crown Point\, 46307
CATEGORIES:Cardinal Stritch Council 4620,Monthly Meeting
END:VEVENT
BEGIN:VEVENT
DTSTART;TZID=America/Chicago:20260406T190000
DTEND;TZID=America/Chicago:20260406T203000
DTSTAMP:20260423T142450
CREATED:20221209T221614Z
LAST-MODIFIED:20260106T233917Z
UID:2415-1775502000-1775507400@www.cpkofc4620.org
SUMMARY:April Officers Meeting
DESCRIPTION:Our monthly officers meeting will be at 7:00 pm. at Larry Biegel’s home\, 311 E. Joliet St. in Crown Point.  All officers meetings are scheduled for the first Monday of the month. \nFor more information\, contact Dave Stephenson at 219-718-4818.
URL:https://www.cpkofc4620.org/event/april-officers-meeting/
LOCATION:Larry Biegel’s Home\, 311 E. Joliet St\, Crown Point\, IN\, 46307\, United States
CATEGORIES:Cardinal Stritch Council 4620,Officers Meeting
ATTACH;FMTTYPE=image/jpeg:https://www.cpkofc4620.org/wp-content/uploads/2021/10/jewels2.jpg
END:VEVENT
BEGIN:VEVENT
DTSTART;TZID=America/Chicago:20260312T183000
DTEND;TZID=America/Chicago:20260312T203000
DTSTAMP:20260423T142450
CREATED:20221209T145135Z
LAST-MODIFIED:20260106T234331Z
UID:1819-1773340200-1773347400@www.cpkofc4620.org
SUMMARY:March Knights of Columbus Meeting
DESCRIPTION:The Cardinal Stritch Council 4620 meets the second Thursday of each month. We will meet in St. Mary’s Hammes Hall at 6:30 p.m.  \nAfter the meeting\, there will be dinner and fellowship.  Please plan on attending! \nIf you have any questions\, contact the Grand Knight at (219) 718-4818.
URL:https://www.cpkofc4620.org/event/march-knights-of-columbus-meeting/
LOCATION:St. Mary’s Hammes Hall\, 321 East Joliet Street\, Crown Point\, 46307
CATEGORIES:Cardinal Stritch Council 4620,Monthly Meeting
END:VEVENT
BEGIN:VEVENT
DTSTART;TZID=America/Chicago:20260308T090000
DTEND;TZID=America/Chicago:20260308T103000
DTSTAMP:20260423T142450
CREATED:20221209T141604Z
LAST-MODIFIED:20260106T233726Z
UID:2044-1772960400-1772965800@www.cpkofc4620.org
SUMMARY:Corporate Communion
DESCRIPTION:Our Corporate Communion is every second Sunday of the month at the 9:30 a.m. mass in St. Mary Church.   \nWe will say a rosary before the mass starts.   \nPlease make plans to attend with your families and to wear your Knights apparel.  See the Grand Knight for an arm band when you enter the church. \nFor more information on all these events\, please contact the Grand Knight at (219) 718-4818.
URL:https://www.cpkofc4620.org/event/corporate-communion-mar/
LOCATION:St. Mary Catholic Church\, 321 E Joliet St\, Crown Point\, IN\, 46307\, United States
CATEGORIES:Cardinal Stritch Council 4620,Corporate Communion
ATTACH;FMTTYPE=image/jpeg:https://www.cpkofc4620.org/wp-content/uploads/2021/12/communion_header-e1638468454154.jpg
END:VEVENT
BEGIN:VEVENT
DTSTART;TZID=America/Chicago:20260301T073000
DTEND;TZID=America/Chicago:20260301T130000
DTSTAMP:20260423T142450
CREATED:20260203T235724Z
LAST-MODIFIED:20260203T235743Z
UID:3462-1772350200-1772370000@www.cpkofc4620.org
SUMMARY:St. Mary Ministry Fair
DESCRIPTION:St. Mary Church is holding a Ministry Fair after all the masses in Hammes Hall on the weekend of March 1st. \nPlease wear any Knights of Columbus apparel to the mass you normally attend and join us at our table to answer any questions interested Catholic men might have about joining our order. \nFor more information contact Brother Dave at (219) 718-4818 or Suzie Hartman at (219) 966-2203.
URL:https://www.cpkofc4620.org/event/st-mary-ministry-fair/
LOCATION:St. Mary’s Hammes Hall\, 321 East Joliet Street\, Crown Point\, 46307
CATEGORIES:Cardinal Stritch Council 4620,Ministry Fair,St. Mary's
ORGANIZER;CN="Susie Hartman":MAILTO:shartman@stmarycp.org
END:VEVENT
BEGIN:VEVENT
DTSTART;VALUE=DATE:20260218
DTEND;VALUE=DATE:20260219
DTSTAMP:20260423T142450
CREATED:20150817T073520Z
LAST-MODIFIED:20260106T234050Z
UID:602-1771372800-1771459199@www.cpkofc4620.org
SUMMARY:Ash Wednesday
DESCRIPTION:
URL:https://www.cpkofc4620.org/event/ash-wednesday/
CATEGORIES:Holy Day of Obligation
END:VEVENT
BEGIN:VEVENT
DTSTART;TZID=America/Chicago:20260212T183000
DTEND;TZID=America/Chicago:20260212T203000
DTSTAMP:20260423T142450
CREATED:20221209T144921Z
LAST-MODIFIED:20260106T234309Z
UID:1817-1770921000-1770928200@www.cpkofc4620.org
SUMMARY:February Knights of Columbus Meeting
DESCRIPTION:The Cardinal Stritch Council 4620 meets the second Thursday of each month. We will meet in St. Mary’s Hammes Hall at 6:30 p.m.  \nAfter the meeting\, there will be dinner and fellowship.  Please plan on attending! \nIf you have any questions\, contact the Grand Knight at (219) 718-4818.
URL:https://www.cpkofc4620.org/event/february-knights-of-columbus-meeting/
LOCATION:St. Mary’s Hammes Hall\, 321 East Joliet Street\, Crown Point\, 46307
CATEGORIES:Cardinal Stritch Council 4620,Monthly Meeting
END:VEVENT
BEGIN:VEVENT
DTSTART;TZID=America/Chicago:20260208T090000
DTEND;TZID=America/Chicago:20260208T103000
DTSTAMP:20260423T142450
CREATED:20220601T161313Z
LAST-MODIFIED:20260106T233817Z
UID:2054-1770541200-1770546600@www.cpkofc4620.org
SUMMARY:Corporate Communion
DESCRIPTION:Our Corporate Communion is every second Sunday of the month at the 9:30 a.m. mass in St. Mary Church.   \nWe will say a rosary before the mass starts.   \nPlease make plans to attend with your families and to wear your Knights apparel.  See the Grand Knight for an arm band when you enter the church. \nFor more information on all these events\, please contact the Grand Knight at (219) 718-4818.
URL:https://www.cpkofc4620.org/event/corporate-communion-feb/
LOCATION:St. Mary Catholic Church\, 321 E Joliet St\, Crown Point\, IN\, 46307\, United States
CATEGORIES:Cardinal Stritch Council 4620,Corporate Communion
ATTACH;FMTTYPE=image/jpeg:https://www.cpkofc4620.org/wp-content/uploads/2021/12/communion_header-e1638468454154.jpg
END:VEVENT
BEGIN:VEVENT
DTSTART;TZID=America/Chicago:20260202T190000
DTEND;TZID=America/Chicago:20260202T203000
DTSTAMP:20260423T142450
CREATED:20221209T221235Z
LAST-MODIFIED:20260106T234010Z
UID:2413-1770058800-1770064200@www.cpkofc4620.org
SUMMARY:February Officers Meeting
DESCRIPTION:Our monthly officers meeting will be at 7:00 pm. Location to be determined.  All officers meetings are scheduled for the first Monday of the month. \nFor more information\, contact Dave Stephenson at 219-718-4818.
URL:https://www.cpkofc4620.org/event/february-officers-meeting/
LOCATION:Larry Biegel’s Home\, 311 E. Joliet St\, Crown Point\, IN\, 46307\, United States
CATEGORIES:Cardinal Stritch Council 4620,Officers Meeting
ATTACH;FMTTYPE=image/jpeg:https://www.cpkofc4620.org/wp-content/uploads/2021/10/jewels2.jpg
END:VEVENT
BEGIN:VEVENT
DTSTART;TZID=America/Chicago:20260111T093000
DTEND;TZID=America/Chicago:20260111T103000
DTSTAMP:20260423T142450
CREATED:20221209T141202Z
LAST-MODIFIED:20251209T210751Z
UID:1830-1768123800-1768127400@www.cpkofc4620.org
SUMMARY:Corporate Communion
DESCRIPTION:Our Corporate Communion is every second Sunday of the month at the 9:30 a.m. mass at St. Mary Church.  We will say a rosary before the mass starts.  Please make plans to attend with your families and to wear your Knights apparel.  See the Grand Knight for an arm band when you enter the church. \nFor more information on all these events\, please contact the Grand Knight at (219) 779-8457.
URL:https://www.cpkofc4620.org/event/corporate-communion-nov/
LOCATION:St. Matthias Roman Catholic Church\, 101 W. Burrell Drive\, Crown Point\, 46307\, United States
CATEGORIES:Cardinal Stritch Council 4620,Corporate Communion
ATTACH;FMTTYPE=image/jpeg:https://www.cpkofc4620.org/wp-content/uploads/2021/12/communion_header-e1638468454154.jpg
END:VEVENT
BEGIN:VEVENT
DTSTART;TZID=America/Chicago:20260108T183000
DTEND;TZID=America/Chicago:20260108T203000
DTSTAMP:20260423T142450
CREATED:20210928T234754Z
LAST-MODIFIED:20251209T210531Z
UID:1815-1767897000-1767904200@www.cpkofc4620.org
SUMMARY:January Knights of Columbus Meeting
DESCRIPTION:The Cardinal Stritch Council 4620 meets the second Thursday of each month. We will meet in St. Mary’s Hammes Hall at 6:30 p.m.  \nAfter the meeting\, there will be dinner and fellowship.  Please plan on attending! \nIf you have any questions\, contact the Grand Knight at (219) 718-4818.
URL:https://www.cpkofc4620.org/event/january-knights-of-columbus-meeting/
LOCATION:St. Mary’s Hammes Hall\, 321 East Joliet Street\, Crown Point\, 46307
CATEGORIES:Cardinal Stritch Council 4620,Monthly Meeting
END:VEVENT
BEGIN:VEVENT
DTSTART;TZID=America/Chicago:20260105T190000
DTEND;TZID=America/Chicago:20260105T203000
DTSTAMP:20260423T142450
CREATED:20221209T220802Z
LAST-MODIFIED:20251209T210511Z
UID:2412-1767639600-1767645000@www.cpkofc4620.org
SUMMARY:January Officers Meeting
DESCRIPTION:Our monthly officers’ meeting will be at 2nd Year Trustee Larry Biegel’s house\, 311 E. Joliet St. at 7:00 pm.  All officers meetings are scheduled for the first Monday of the month. \nFor more information\, contact Dave Stephenson at 219-718-4818.
URL:https://www.cpkofc4620.org/event/january-officers-meeting/
LOCATION:Larry Biegel’s Home\, 311 E. Joliet St\, Crown Point\, IN\, 46307\, United States
CATEGORIES:Cardinal Stritch Council 4620,Officers Meeting
ATTACH;FMTTYPE=image/jpeg:https://www.cpkofc4620.org/wp-content/uploads/2021/10/jewels2.jpg
END:VEVENT
BEGIN:VEVENT
DTSTART;VALUE=DATE:20260101
DTEND;VALUE=DATE:20260102
DTSTAMP:20260423T142450
CREATED:20150817T072813Z
LAST-MODIFIED:20251209T210704Z
UID:599-1767225600-1767311999@www.cpkofc4620.org
SUMMARY:Solemnity of Mary\, the Holy Mother of God
DESCRIPTION:The Solemnity of Mary\, the Holy Mother of God is celebrated on January 1st. It is a feast day of the Blessed Virgin Mary under the aspect of her motherhood of Jesus Christ.
URL:https://www.cpkofc4620.org/event/solemnity-of-mary/
CATEGORIES:Holy Day of Obligation
END:VEVENT
BEGIN:VEVENT
DTSTART;VALUE=DATE:20251225
DTEND;VALUE=DATE:20251226
DTSTAMP:20260423T142450
CREATED:20221017T073819Z
LAST-MODIFIED:20251209T212330Z
UID:604-1766620800-1766707199@www.cpkofc4620.org
SUMMARY:Christmas Day
DESCRIPTION:I want to wish the Cardinal Stritch Council #4620 family a glorious and blessed Christmas Season.
URL:https://www.cpkofc4620.org/event/christmas-day/
CATEGORIES:Holiday,Holy Day of Obligation
ATTACH;FMTTYPE=image/jpeg:https://www.cpkofc4620.org/wp-content/uploads/2015/08/nativity1800.jpg
END:VEVENT
BEGIN:VEVENT
DTSTART;TZID=America/Chicago:20251214T093000
DTEND;TZID=America/Chicago:20251214T103000
DTSTAMP:20260423T142450
CREATED:20221208T142235Z
LAST-MODIFIED:20250722T205321Z
UID:2098-1765704600-1765708200@www.cpkofc4620.org
SUMMARY:Corporate Communion
DESCRIPTION:Our Corporate Communion is every second Sunday of the month at the 9:30 a.m. mass at St. Mary Church.  We will say a rosary before the mass starts.  Please make plans to attend with your families and to wear your Knights apparel.  See the Grand Knight for an arm band when you enter the church. \nFor more information on all these events\, please contact the Grand Knight at (219) 718-4818.
URL:https://www.cpkofc4620.org/event/corporate-communion-dec/
LOCATION:St. Mary Catholic Church\, 321 E Joliet St\, Crown Point\, IN\, 46307\, United States
CATEGORIES:Cardinal Stritch Council 4620,Corporate Communion
ATTACH;FMTTYPE=image/jpeg:https://www.cpkofc4620.org/wp-content/uploads/2021/12/communion_header-e1638468454154.jpg
END:VEVENT
BEGIN:VEVENT
DTSTART;TZID=America/Chicago:20251213T180000
DTEND;TZID=America/Chicago:20251213T213000
DTSTAMP:20260423T142450
CREATED:20211113T232121Z
LAST-MODIFIED:20251104T225851Z
UID:278-1765648800-1765661400@www.cpkofc4620.org
SUMMARY:Knights of Columbus Christmas Party
DESCRIPTION:Our Knights Christmas party for Knights and guest will be Saturday\, December 13th at Youche Country Club.  \nSocializing begins at 6:00 p.m. Dinner begins at 6:30 p.m. \nThe meal will be a buffet dinner. The cost is $30 a plate. \nBuffet dinner menu includes three meats along with the usual side dishes; dessert will be peppermint ice cream. Soft drinks\, coffee and tea are provided. \nPlease RSVP with Grand Knight Dave Stephenson at (219) 718-4818 or Jim Landers at (219) 313-5744 before December 6th. No reservations will be accepted after that day.
URL:https://www.cpkofc4620.org/event/knights-of-columbus-christmas-party/
LOCATION:Youche Country Club\, 2301 W 129th Pl.\, Crown Point\, IN\, 46307\, United States
CATEGORIES:Cardinal Stritch Council 4620,Holiday
ATTACH;FMTTYPE=image/jpeg:https://www.cpkofc4620.org/wp-content/uploads/2014/09/Christmas-party.jpg
END:VEVENT
BEGIN:VEVENT
DTSTART;TZID=America/Chicago:20251211T183000
DTEND;TZID=America/Chicago:20251211T203000
DTSTAMP:20260423T142450
CREATED:20221209T154517Z
LAST-MODIFIED:20251209T212439Z
UID:1811-1765477800-1765485000@www.cpkofc4620.org
SUMMARY:December Knights of Columbus Meeting
DESCRIPTION:The Cardinal Stritch Council 4620 meets the second Thursday of each month. We will meet in St. Mary’s Hammes Hall at 6:30 p.m.  \nAfter the meeting\, there will be dinner and fellowship.  Please plan on attending! \nIf you have any questions\, contact the Grand Knight at (219) 718-4818.
URL:https://www.cpkofc4620.org/event/december-knights-of-columbus-meeting/
LOCATION:St. Mary’s Hammes Hall\, 321 East Joliet Street\, Crown Point\, 46307
CATEGORIES:Cardinal Stritch Council 4620,Monthly Meeting
END:VEVENT
BEGIN:VEVENT
DTSTART;TZID=America/Chicago:20251206T110000
DTEND;TZID=America/Chicago:20251206T130000
DTSTAMP:20260423T142450
CREATED:20140925T074433Z
LAST-MODIFIED:20251104T230239Z
UID:288-1765018800-1765026000@www.cpkofc4620.org
SUMMARY:Cardinal Stritch Council #4620's Children's Christmas Party
DESCRIPTION:December is a hard month for little children. The anticipation of Santa’s visit on Christmas can be hard on the whole family. A celebration that is just for the kids with food\, games\, prizes\, desserts and even a visit from Santa should take the edge off the holiday craziness. \nThe Knights of Council #4620 are invited to bring their children\, grandchildren\, great-grandchildren\, nieces and nephews\, to the annual Children’s Christmas Party from 11:00 p.m. to 1:00 p.m. for some holiday fun  on Saturday\, December 6th in St. Mary’s  Hammes Hall. \nChildren ages 10 and under will receive a present from Santa. Children older than 10 are invited to have treats. \nTo reserve your family’s place at the biggest party of the year\, contact Grand Knight Dave Stephenson at the number below with the names and ages of your little ones as well as any adults that will be coming. \nIf you would like to help the party run smoothly\, call Dave. All the help would be appreciated!
URL:https://www.cpkofc4620.org/event/cardinal-stritch-council-4620s-childrens-christmas-party/
LOCATION:St. Mary’s Hammes Hall\, 321 East Joliet Street\, Crown Point\, 46307
CATEGORIES:Cardinal Stritch Council 4620,Family Event,Holiday,On The Square Sports Academy,Youth Committe Event
END:VEVENT
BEGIN:VEVENT
DTSTART;TZID=America/Chicago:20251201T190000
DTEND;TZID=America/Chicago:20251201T203000
DTSTAMP:20260423T142450
CREATED:20231019T003321Z
LAST-MODIFIED:20250722T204020Z
UID:2717-1764615600-1764621000@www.cpkofc4620.org
SUMMARY:December Officers Meeting
DESCRIPTION:Our monthly officers meeting will be at 2nd Year Trustee Larry Biegel’s house\, 311 E. Joliet St. at 7:00 pm.  All officers meetings are scheduled for the first Monday of the month. \nFor more information\, contact Dave Stephenson at 219-718-4818.
URL:https://www.cpkofc4620.org/event/december-officers-meeting/
LOCATION:Larry Biegel’s Home\, 311 E. Joliet St\, Crown Point\, IN\, 46307\, United States
CATEGORIES:Cardinal Stritch Council 4620,Officers Meeting
ATTACH;FMTTYPE=image/jpeg:https://www.cpkofc4620.org/wp-content/uploads/2021/10/jewels2.jpg
END:VEVENT
BEGIN:VEVENT
DTSTART;TZID=America/Chicago:20251113T183000
DTEND;TZID=America/Chicago:20251113T203000
DTSTAMP:20260423T142450
CREATED:20221209T144238Z
LAST-MODIFIED:20250722T203650Z
UID:1809-1763058600-1763065800@www.cpkofc4620.org
SUMMARY:November Knights of Columbus Meeting
DESCRIPTION:The Cardinal Stritch Council 4620 meets the second Thursday of each month. We will meet in St. Mary’s Hammes Hall at 6:30 p.m.  \nAfter the meeting\, there will be dinner and fellowship.  Please plan on attending! \nIf you have any questions\, contact the Grand Knight at (219) 718-4818.
URL:https://www.cpkofc4620.org/event/november-knights-of-columbus-meeting/
LOCATION:St. Mary’s Hammes Hall\, 321 East Joliet Street\, Crown Point\, 46307
CATEGORIES:Cardinal Stritch Council 4620,Monthly Meeting
END:VEVENT
BEGIN:VEVENT
DTSTART;TZID=America/Chicago:20251109T090000
DTEND;TZID=America/Chicago:20251109T103000
DTSTAMP:20260423T142450
CREATED:20240917T210324Z
LAST-MODIFIED:20250722T205204Z
UID:3062-1762678800-1762684200@www.cpkofc4620.org
SUMMARY:Corporate Communion
DESCRIPTION:Our Corporate Communion is every second Sunday of the month at the 9:30 a.m. mass in St. Mary Church’s Hammes Hall while construction continues on the church.   \nWe will say a rosary before the mass starts.   \nPlease make plans to attend with your families and to wear your Knights apparel. \nFor more information on all these events\, please contact the Grand Knight at (219) 718-4818.
URL:https://www.cpkofc4620.org/event/corporate-communion-november/
LOCATION:St. Mary’s Hammes Hall\, 321 East Joliet Street\, Crown Point\, 46307
CATEGORIES:Cardinal Stritch Council 4620,Corporate Communion
ATTACH;FMTTYPE=image/jpeg:https://www.cpkofc4620.org/wp-content/uploads/2018/09/Corp-Comm.jpg
END:VEVENT
BEGIN:VEVENT
DTSTART;TZID=America/Chicago:20251108T090000
DTEND;TZID=America/Chicago:20251108T130000
DTSTAMP:20260423T142450
CREATED:20220929T230004Z
LAST-MODIFIED:20250722T205435Z
UID:1219-1762592400-1762606800@www.cpkofc4620.org
SUMMARY:Holiday Pierogi Sale
DESCRIPTION:The Crown Point Knights of Columbus Cardinal Stritch Council 4620 is holding a HOLIDAY PIEROGI SALE on Saturday\, November 8th. Packages of a dozen frozen pierogi in a variety of fillings\, including fruit and meat\, will be sold on Saturday for $9.00 a dozen from 9:00AM to 1:00 PM in the Lake County Fairgrounds in Crown Point WHILE SUPPLY LASTS. \nYou can save money by pre-ordering your pierogi by using the ONLINE ORDER FORM link. If you pre-ordered\, you can pick-up your pierogi at this time. \nFor more information\, contact (219) 718-4818. \nThere will be NO HOT FOOD SERVED. \nPrinted Holiday Pierogi Flyer/ORDER FORM
URL:https://www.cpkofc4620.org/event/holiday-pierogi-sale/
LOCATION:Lake County Fairgrounds\, Crown Point\, IN\, 46307\, United States
CATEGORIES:Cardinal Stritch Council 4620,Fundraiser,Pierogi Sale
ATTACH;FMTTYPE=image/jpeg:https://www.cpkofc4620.org/wp-content/uploads/2020/10/2020holiday_FB-event.jpg
END:VEVENT
BEGIN:VEVENT
DTSTART;TZID=America/Chicago:20251103T190000
DTEND;TZID=America/Chicago:20251103T203000
DTSTAMP:20260423T142450
CREATED:20221209T155243Z
LAST-MODIFIED:20250722T204047Z
UID:1136-1762196400-1762201800@www.cpkofc4620.org
SUMMARY:November Officers Meeting
DESCRIPTION:Our monthly officers meeting will be at 2nd Year Trustee Larry Biegel’s house\, 311 E. Joliet St. at 7:00 pm.  All officers meetings are scheduled for the first Monday of the month. \nFor more information\, contact Dave Stephenson at 219-718-4818.
URL:https://www.cpkofc4620.org/event/november-officers-meeting/
LOCATION:Larry Biegel’s Home\, 311 E. Joliet St\, Crown Point\, IN\, 46307\, United States
CATEGORIES:Cardinal Stritch Council 4620,Officers Meeting
ATTACH;FMTTYPE=image/jpeg:https://www.cpkofc4620.org/wp-content/uploads/2021/10/jewels2.jpg
END:VEVENT
BEGIN:VEVENT
DTSTART;TZID=America/Chicago:20251026T070000
DTEND;TZID=America/Chicago:20251026T130000
DTSTAMP:20260423T142450
CREATED:20221005T060949Z
LAST-MODIFIED:20251020T014619Z
UID:2270-1761462000-1761483600@www.cpkofc4620.org
SUMMARY:Coffee & Donuts for Knights of Columbus
DESCRIPTION:The Knights of Columbus Cardinal Stritch Council #4620 will serve donuts and coffee after all the masses on Sunday\, October 26th in Hammes Hall.  \nOctober is our month-long membership drive. It is a chance for the parish to get to know it’s Knight’s council and a chance for Catholic gentleman to join our Order.  \nIf you could help set up or take down on Sunday Morning\, it would be a great chance to see your brother Knights. \nFor more information on all these events\, please contact the Grand Knight at (219) 718-4818.
URL:https://www.cpkofc4620.org/event/coffee-donuts-for-knights-of-columbus/
LOCATION:St. Mary’s Hammes Hall\, 321 East Joliet Street\, Crown Point\, 46307
CATEGORIES:Donuts & Coffee,Recruitment
ATTACH;FMTTYPE=image/jpeg:https://www.cpkofc4620.org/wp-content/uploads/2023/09/coffeeanddonuts-e1695308892650.jpeg
END:VEVENT
BEGIN:VEVENT
DTSTART;TZID=America/Chicago:20251024T090000
DTEND;TZID=America/Chicago:20251024T130000
DTSTAMP:20260423T142450
CREATED:20251020T014136Z
LAST-MODIFIED:20251020T014136Z
UID:3394-1761296400-1761310800@www.cpkofc4620.org
SUMMARY:Father Pat Kalich's Funeral
DESCRIPTION:Father Pat Kalich’s funeral arrangements are as follows: \nA Mass of Christian Burial will follow at 10:30 am. Interment to follow at St. Mary Cemetery Priest Section in Crown Point\, IN. \nA reception will be held after the burial in St. Mary’s Hammes Hall.
URL:https://www.cpkofc4620.org/event/father-pat-kalichs-funeral/
LOCATION:St. Mary Catholic Church\, 321 E Joliet St\, Crown Point\, IN\, 46307\, United States
CATEGORIES:Cardinal Stritch Council 4620,Funeral Service
END:VEVENT
BEGIN:VEVENT
DTSTART;TZID=America/Chicago:20251023T120000
DTEND;TZID=America/Chicago:20251023T190000
DTSTAMP:20260423T142450
CREATED:20251020T013630Z
LAST-MODIFIED:20251020T014131Z
UID:3391-1761220800-1761246000@www.cpkofc4620.org
SUMMARY:Visitation for Father Pat Kalich
DESCRIPTION:Funeral Arragngements for Father Pat Kalich who passed away Friday\, October 17th\, are as follows: \nRite of Reception of the body will take place at 12:00 noon on Thursday\, October 23th at St. Mary Catholic Church\, 321 E. Joliet St.\, Crown Point\, IN 46307. Visitation to follow until evening prayer services at 7:00 PM. \nAdditional visitation will take place on Friday\, October 24th from 9:00 am until morning prayers at 10:00 am. \nKnights who wish to attend the 7:00 pm mass on Thursday night are asked to be at the church no later than 6:45 pm. wearing their Knights apparel. \nFor more information call brother Dave at 219-718-4818.
URL:https://www.cpkofc4620.org/event/visitation-for-father-pat-kalich/
LOCATION:St. Mary Catholic Church\, 321 E Joliet St\, Crown Point\, IN\, 46307\, United States
CATEGORIES:Cardinal Stritch Council 4620,Funeral Service
END:VEVENT
BEGIN:VEVENT
DTSTART;TZID=America/Chicago:20251020T183000
DTEND;TZID=America/Chicago:20251020T203000
DTSTAMP:20260423T142450
CREATED:20221020T225047Z
LAST-MODIFIED:20251020T014340Z
UID:2321-1760985000-1760992200@www.cpkofc4620.org
SUMMARY:Pizza Night
DESCRIPTION:The Cardinal Stritch Council 4620 invites all council members to a pizza buffet at Gelsosomo’s Pizzeria on Monday\, October 20th starting at 6:30 p.m. in Crown Point. \nThis is a great excuse to take your significant other out for a date night. The buffet includes pizza\, salad and bread sticks. There will be a cash bar\, but soft drinks and water are part of the package. \nJim Cassoday\, our Knights of Columbus insurance agent\, will be on hand to answer any insurance questions you might have. \nIf you know of any Catholic gentleman who is interested in joining the Knights of Columbus\, please bring them along. \nTo RSVP\, call Dave Stephenson at 219-718-4818.
URL:https://www.cpkofc4620.org/event/pizza-night/
LOCATION:Gelsosomo’s Pizzeria\, 11319 Broadway\, Crown Point\,\, IN\, 46307\, United States
CATEGORIES:Cardinal Stritch Council 4620,Family Event,Recruitment
ATTACH;FMTTYPE=image/jpeg:https://www.cpkofc4620.org/wp-content/uploads/2022/10/pizza.jpeg
END:VEVENT
BEGIN:VEVENT
DTSTART;TZID=America/Chicago:20251012T090000
DTEND;TZID=America/Chicago:20251012T103000
DTSTAMP:20260423T142450
CREATED:20221209T140452Z
LAST-MODIFIED:20250722T205218Z
UID:1824-1760259600-1760265000@www.cpkofc4620.org
SUMMARY:Corporate Communion
DESCRIPTION:Our Corporate Communion is every second Sunday of the month at the 9:30 a.m. mass in Hammes Hall at St. Mary Church.   \nWe will say a rosary before the mass starts.   \nPlease make plans to attend with your families and to wear your Knights apparel.   \nFor more information on all these events\, please contact the Grand Knight at (219) 718-4818.
URL:https://www.cpkofc4620.org/event/corporate-communion-oct/
LOCATION:St. Mary’s Hammes Hall\, 321 East Joliet Street\, Crown Point\, 46307
CATEGORIES:Cardinal Stritch Council 4620,Corporate Communion
ATTACH;FMTTYPE=image/jpeg:https://www.cpkofc4620.org/wp-content/uploads/2021/12/communion_header-e1638468454154.jpg
END:VEVENT
BEGIN:VEVENT
DTSTART;TZID=America/Chicago:20251009T183000
DTEND;TZID=America/Chicago:20251009T203000
DTSTAMP:20260423T142450
CREATED:20221209T143636Z
LAST-MODIFIED:20250722T203719Z
UID:1807-1760034600-1760041800@www.cpkofc4620.org
SUMMARY:October Knights of Columbus Meeting
DESCRIPTION:The Cardinal Stritch Council 4620 meets the second Thursday of each month. We will meet in St. Mary’s Hammes Hall at 6:30 p.m.  \n After the meeting\, there will be dinner and fellowship.  Please plan on attending! \nIf you have any questions\, contact the Grand Knight at (219) 718-4818.
URL:https://www.cpkofc4620.org/event/october-knights-of-columbus-meeting/
LOCATION:St. Mary’s Hammes Hall\, 321 East Joliet Street\, Crown Point\, 46307
CATEGORIES:Cardinal Stritch Council 4620,Monthly Meeting
END:VEVENT
END:VCALENDAR