BEGIN:VCALENDAR
VERSION:2.0
PRODID:-//Cardinal Stritch Council #4620 - ECPv6.13.2.1//NONSGML v1.0//EN
CALSCALE:GREGORIAN
METHOD:PUBLISH
X-ORIGINAL-URL:https://www.cpkofc4620.org
X-WR-CALDESC:Events for Cardinal Stritch Council #4620
REFRESH-INTERVAL;VALUE=DURATION:PT1H
X-Robots-Tag:noindex
X-PUBLISHED-TTL:PT1H
BEGIN:VTIMEZONE
TZID:America/Chicago
BEGIN:DAYLIGHT
TZOFFSETFROM:-0600
TZOFFSETTO:-0500
TZNAME:CDT
DTSTART:20230312T080000
END:DAYLIGHT
BEGIN:STANDARD
TZOFFSETFROM:-0500
TZOFFSETTO:-0600
TZNAME:CST
DTSTART:20231105T070000
END:STANDARD
END:VTIMEZONE
BEGIN:VEVENT
DTSTART;TZID=America/Chicago:20230810T183000
DTEND;TZID=America/Chicago:20230810T200000
DTSTAMP:20260425T082440
CREATED:20230712T081627Z
LAST-MODIFIED:20230712T081627Z
UID:2645-1691692200-1691697600@www.cpkofc4620.org
SUMMARY:August Knights of Columbus Meeting
DESCRIPTION:Due to the summer maintenance of Hammes Hall\, we will meet at Schoop’s Hamburgers located at 1124 N. Main St. in Crown Point at 6:30 p.m.   \nAfter the meeting\, there will be dinner and fellowship.  Please plan on attending! \nIf you have any questions\, contact the Grand Knight at (219) 779-8457.
URL:https://www.cpkofc4620.org/event/august-knights-of-columbus-meeting-2023/
LOCATION:Schoop’s Hamburgers\, 1124 N Main St\,\, Crown Point\, IN\, 46307\, United States
CATEGORIES:Cardinal Stritch Council 4620,Monthly Meeting
ATTACH;FMTTYPE=image/jpeg:https://www.cpkofc4620.org/wp-content/uploads/2021/10/jewels2.jpg
END:VEVENT
END:VCALENDAR