BEGIN:VCALENDAR
VERSION:2.0
PRODID:-//Cardinal Stritch Council #4620 - ECPv6.13.2.1//NONSGML v1.0//EN
CALSCALE:GREGORIAN
METHOD:PUBLISH
X-WR-CALNAME:Cardinal Stritch Council #4620
X-ORIGINAL-URL:https://www.cpkofc4620.org
X-WR-CALDESC:Events for Cardinal Stritch Council #4620
REFRESH-INTERVAL;VALUE=DURATION:PT1H
X-Robots-Tag:noindex
X-PUBLISHED-TTL:PT1H
BEGIN:VTIMEZONE
TZID:America/Chicago
BEGIN:DAYLIGHT
TZOFFSETFROM:-0600
TZOFFSETTO:-0500
TZNAME:CDT
DTSTART:20230312T080000
END:DAYLIGHT
BEGIN:STANDARD
TZOFFSETFROM:-0500
TZOFFSETTO:-0600
TZNAME:CST
DTSTART:20231105T070000
END:STANDARD
END:VTIMEZONE
BEGIN:VEVENT
DTSTART;TZID=America/Chicago:20230930T163000
DTEND;TZID=America/Chicago:20230930T173000
DTSTAMP:20260425T065309
CREATED:20150924T083624Z
LAST-MODIFIED:20230913T001639Z
UID:643-1696091400-1696095000@www.cpkofc4620.org
SUMMARY:Altar & Rosary Society Respect for Life Rose Sale
DESCRIPTION:On the weekend of the September 30th & October 1st\, Knights will be assisting the St. Mary Altar & Rosary Society in selling roses for their annual Respect for Life Rose Sale after Masses at St. Mary’s. \nThe roses will be sold outside each door of St. Mary’s Catholic Church after the 4:30 p.m. mass on September 30th and the 7:30 a.m.\, 9:00 a.m.\, 10:30 a.m and 12:00 p.m. masses on Sunday\, October 4th. \nYou can add your name to the sign-up sheet at the September meeting. \nIf you have any questions\, contact the Dave Stephenson at (219) 718-4818.
URL:https://www.cpkofc4620.org/event/altar-rosary-society-rose-sale-saturday/
LOCATION:St. Mary Catholic Church\, 321 E Joliet St\, Crown Point\, IN\, 46307\, United States
CATEGORIES:Alter and Rosary Society,St. Mary's
ORGANIZER;CN="Mardee Saad":MAILTO:mardee.saad@sbcglobal.net
END:VEVENT
END:VCALENDAR